BEGIN:VCALENDAR
VERSION:2.0
PRODID:-//PIRATEN - ECPv6.15.16//NONSGML v1.0//EN
CALSCALE:GREGORIAN
METHOD:PUBLISH
X-WR-CALNAME:PIRATEN
X-ORIGINAL-URL:https://piraten.lu
X-WR-CALDESC:Events for PIRATEN
REFRESH-INTERVAL;VALUE=DURATION:PT1H
X-Robots-Tag:noindex
X-PUBLISHED-TTL:PT1H
BEGIN:VTIMEZONE
TZID:Europe/Luxembourg
BEGIN:DAYLIGHT
TZOFFSETFROM:+0100
TZOFFSETTO:+0200
TZNAME:CEST
DTSTART:20220327T010000
END:DAYLIGHT
BEGIN:STANDARD
TZOFFSETFROM:+0200
TZOFFSETTO:+0100
TZNAME:CET
DTSTART:20221030T010000
END:STANDARD
BEGIN:DAYLIGHT
TZOFFSETFROM:+0100
TZOFFSETTO:+0200
TZNAME:CEST
DTSTART:20230326T010000
END:DAYLIGHT
BEGIN:STANDARD
TZOFFSETFROM:+0200
TZOFFSETTO:+0100
TZNAME:CET
DTSTART:20231029T010000
END:STANDARD
BEGIN:DAYLIGHT
TZOFFSETFROM:+0100
TZOFFSETTO:+0200
TZNAME:CEST
DTSTART:20240331T010000
END:DAYLIGHT
BEGIN:STANDARD
TZOFFSETFROM:+0200
TZOFFSETTO:+0100
TZNAME:CET
DTSTART:20241027T010000
END:STANDARD
END:VTIMEZONE
BEGIN:VTIMEZONE
TZID:UTC
BEGIN:STANDARD
TZOFFSETFROM:+0000
TZOFFSETTO:+0000
TZNAME:UTC
DTSTART:20220101T000000
END:STANDARD
END:VTIMEZONE
BEGIN:VEVENT
DTSTART;TZID=Europe/Luxembourg:20230921T190000
DTEND;TZID=Europe/Luxembourg:20230921T210000
DTSTAMP:20260426T002046
CREATED:20230911T101250Z
LAST-MODIFIED:20230911T101250Z
UID:58806-1695322800-1695330000@piraten.lu
SUMMARY:Table ronde Association Luxembourgeoise de Criminologie
DESCRIPTION:Wéi stinn d’Piraten zur Sécherheetspolitik? Kommt laanscht an fannt et eraus 🙂
URL:https://piraten.lu/event/table-ronde-association-luxembourgeoise-de-criminologie/
LOCATION:Centre Culturel « An der Eech »\, Leudelange\, Luxembourg
END:VEVENT
BEGIN:VEVENT
DTSTART;TZID=Europe/Luxembourg:20230921T190000
DTEND;TZID=Europe/Luxembourg:20230921T210000
DTSTAMP:20260426T002046
CREATED:20230801T120855Z
LAST-MODIFIED:20230801T120855Z
UID:54005-1695322800-1695330000@piraten.lu
SUMMARY:Table ronde Tageblatt Bezierk Osten
DESCRIPTION:Eng Table ronde mat den Bezierksspëtzenkandidaten. Fir d’Piraten wäert den Dan Frères mat dobäi sinn. Komm bis laanscht nolauschteren an duerno mat eis diskutéieren!
URL:https://piraten.lu/event/table-ronde-tageblatt-bezierk-osten/
LOCATION:entre culturel “Martialis”\, Ellange\, Luxembourg
END:VEVENT
BEGIN:VEVENT
DTSTART;TZID=Europe/Luxembourg:20230920T190000
DTEND;TZID=Europe/Luxembourg:20230920T210000
DTSTAMP:20260426T002046
CREATED:20230801T120211Z
LAST-MODIFIED:20230801T120211Z
UID:53996-1695236400-1695243600@piraten.lu
SUMMARY:Table ronde CLAE
DESCRIPTION:Table ronde zum Thema \n\n\n\nImmigratioun an Zesummeliewen\n\n\n\nD’Piraten si vertrueden duerch eise Spriecher den Starsky Flor. Kommt laanscht!
URL:https://piraten.lu/event/table-ronde-clae/
END:VEVENT
BEGIN:VEVENT
DTSTART;TZID=Europe/Luxembourg:20230920T190000
DTEND;TZID=Europe/Luxembourg:20230920T190000
DTSTAMP:20260426T002046
CREATED:20230801T120616Z
LAST-MODIFIED:20230801T120616Z
UID:54002-1695236400-1695236400@piraten.lu
SUMMARY:Table ronde Tageblatt Bezierk Zentrum
DESCRIPTION:Table ronde mat den Bezierksspëtzekandidaten aus dem Bezierk Zentrum. Sierf dobäi a komm bis laanscht!
URL:https://piraten.lu/event/table-ronde-tageblatt-bezierk-zentrum/
LOCATION:centre polyvalent “A Schommesch”\, Oberanven
END:VEVENT
BEGIN:VEVENT
DTSTART;TZID=Europe/Luxembourg:20230920T180000
DTEND;TZID=Europe/Luxembourg:20230920T200000
DTSTAMP:20260426T002046
CREATED:20230801T120410Z
LAST-MODIFIED:20230801T120410Z
UID:53999-1695232800-1695240000@piraten.lu
SUMMARY:Table ronde ProVelo
DESCRIPTION:D’Piraten schwätze mat iwwert d’mobilité douce. Eisen Südkandidat den Chris Bernard vertrëtt d’Piraten op der Table ronde.
URL:https://piraten.lu/event/table-ronde-provelo/
END:VEVENT
BEGIN:VEVENT
DTSTART;TZID=Europe/Luxembourg:20230919T193000
DTEND;TZID=Europe/Luxembourg:20230919T213000
DTSTAMP:20260426T002046
CREATED:20230911T100434Z
LAST-MODIFIED:20230911T100450Z
UID:58790-1695151800-1695159000@piraten.lu
SUMMARY:Table ronde vum Wort zum Norden mam Ben Polidori
DESCRIPTION:Dënschdeg\, den 19. September am CAPE zu Ettelbréck\, um 19.30 Auer \nKommt bis laanscht an lauschtert eisem Nord Spëtzekandidat no \nHei kënnt der iech umelden: https://wort.typeform.com/to/vjReaqw0?typeform-source=www.wort.lu
URL:https://piraten.lu/event/table-ronde-vum-wort-zum-norden-mam-ben-polidori/
LOCATION:CAPE\, Ettelbruck\, Luxembourg
END:VEVENT
BEGIN:VEVENT
DTSTART;TZID=Europe/Luxembourg:20230919T193000
DTEND;TZID=Europe/Luxembourg:20230919T213000
DTSTAMP:20260426T002046
CREATED:20230911T100434Z
LAST-MODIFIED:20230911T100450Z
UID:58793-1695151800-1695159000@piraten.lu
SUMMARY:Table ronde vum Wort zum Norden mam Ben Polidori
DESCRIPTION:Dënschdeg\, den 19. September am CAPE zu Ettelbréck\, um 19.30 Auer \nKommt bis laanscht an lauschtert eisem Nord Spëtzekandidat no \nHei kënnt der iech umelden: https://wort.typeform.com/to/vjReaqw0?typeform-source=www.wort.lu
URL:https://piraten.lu/event/table-ronde-vum-wort-zum-norden-mam-ben-polidori/
LOCATION:CAPE\, Ettelbruck\, Luxembourg
END:VEVENT
BEGIN:VEVENT
DTSTART;TZID=Europe/Luxembourg:20230919T193000
DTEND;TZID=Europe/Luxembourg:20230919T213000
DTSTAMP:20260426T002046
CREATED:20230911T100434Z
LAST-MODIFIED:20230911T100450Z
UID:58794-1695151800-1695159000@piraten.lu
SUMMARY:Table ronde vum Wort zum Norden mam Ben Polidori
DESCRIPTION:Dënschdeg\, den 19. September am CAPE zu Ettelbréck\, um 19.30 Auer \nKommt bis laanscht an lauschtert eisem Nord Spëtzekandidat no \nHei kënnt der iech umelden: https://wort.typeform.com/to/vjReaqw0?typeform-source=www.wort.lu
URL:https://piraten.lu/event/table-ronde-vum-wort-zum-norden-mam-ben-polidori/
LOCATION:CAPE\, Ettelbruck\, Luxembourg
END:VEVENT
BEGIN:VEVENT
DTSTART;TZID=Europe/Luxembourg:20230919T193000
DTEND;TZID=Europe/Luxembourg:20230919T213000
DTSTAMP:20260426T002046
CREATED:20230911T100434Z
LAST-MODIFIED:20230911T100451Z
UID:58795-1695151800-1695159000@piraten.lu
SUMMARY:Table ronde vum Wort zum Norden mam Ben Polidori
DESCRIPTION:Dënschdeg\, den 19. September am CAPE zu Ettelbréck\, um 19.30 Auer \nKommt bis laanscht an lauschtert eisem Nord Spëtzekandidat no \nHei kënnt der iech umelden: https://wort.typeform.com/to/vjReaqw0?typeform-source=www.wort.lu
URL:https://piraten.lu/event/table-ronde-vum-wort-zum-norden-mam-ben-polidori/
LOCATION:CAPE\, Ettelbruck\, Luxembourg
END:VEVENT
BEGIN:VEVENT
DTSTART;TZID=UTC:20230919T183000
DTEND;TZID=UTC:20230919T203000
DTSTAMP:20260426T002046
CREATED:20230324T071911Z
LAST-MODIFIED:20230911T094127Z
UID:46827-1695148200-1695155400@piraten.lu
SUMMARY:Table ronde Spëtzekandidaten mam Sven Clement
DESCRIPTION:https://paperjam.lu/club/event/2023-09-19-grand-debat-candidats-tetes-li?lang=fr
URL:https://piraten.lu/event/table-ronde-spetzekandidaten-am-sven-clement/
LOCATION:PwC – Crystal Park\, 2 Rue Gerhard Mercator\, Luxembourg
END:VEVENT
BEGIN:VEVENT
DTSTART;TZID=UTC:20230919T183000
DTEND;TZID=UTC:20230919T203000
DTSTAMP:20260426T002046
CREATED:20230324T071911Z
LAST-MODIFIED:20230911T094127Z
UID:49193-1695148200-1695155400@piraten.lu
SUMMARY:Table ronde Spëtzekandidaten mam Sven Clement
DESCRIPTION:https://paperjam.lu/club/event/2023-09-19-grand-debat-candidats-tetes-li?lang=fr
URL:https://piraten.lu/event/table-ronde-spetzekandidaten-am-sven-clement/
LOCATION:PwC – Crystal Park\, 2 Rue Gerhard Mercator\, Luxembourg
END:VEVENT
BEGIN:VEVENT
DTSTART;TZID=UTC:20230919T183000
DTEND;TZID=UTC:20230919T203000
DTSTAMP:20260426T002046
CREATED:20230324T071911Z
LAST-MODIFIED:20230911T094128Z
UID:49194-1695148200-1695155400@piraten.lu
SUMMARY:Table ronde Spëtzekandidaten mam Sven Clement
DESCRIPTION:https://paperjam.lu/club/event/2023-09-19-grand-debat-candidats-tetes-li?lang=fr
URL:https://piraten.lu/event/table-ronde-spetzekandidaten-am-sven-clement/
LOCATION:PwC – Crystal Park\, 2 Rue Gerhard Mercator\, Luxembourg
END:VEVENT
BEGIN:VEVENT
DTSTART;TZID=UTC:20230919T183000
DTEND;TZID=UTC:20230919T203000
DTSTAMP:20260426T002046
CREATED:20230324T071911Z
LAST-MODIFIED:20230911T094128Z
UID:49195-1695148200-1695155400@piraten.lu
SUMMARY:Table ronde Spëtzekandidaten mam Sven Clement
DESCRIPTION:https://paperjam.lu/club/event/2023-09-19-grand-debat-candidats-tetes-li?lang=fr
URL:https://piraten.lu/event/table-ronde-spetzekandidaten-am-sven-clement/
LOCATION:PwC – Crystal Park\, 2 Rue Gerhard Mercator\, Luxembourg
END:VEVENT
BEGIN:VEVENT
DTSTART;TZID=Europe/Luxembourg:20230919T180000
DTEND;TZID=Europe/Luxembourg:20230919T200000
DTSTAMP:20260426T002046
CREATED:20230801T115732Z
LAST-MODIFIED:20230801T115732Z
UID:53993-1695146400-1695153600@piraten.lu
SUMMARY:Table ronde: Innovative Medicines for Luxembourg
DESCRIPTION:D’Piraten diskutéiere mat wann et ëm d’Gesondheetspolitik vu muer geet.
URL:https://piraten.lu/event/table-ronde-innovative-medicines-for-luxembourg/
LOCATION:Kinepolis Kirchberg\, avenue J.F. Kennedy 45\, Luxembourg\, Luxembourg\, L-1855\, Luxembourg
END:VEVENT
BEGIN:VEVENT
DTSTART;TZID=Europe/Luxembourg:20230919T120000
DTEND;TZID=Europe/Luxembourg:20230919T140000
DTSTAMP:20260426T002046
CREATED:20230911T100152Z
LAST-MODIFIED:20230911T100219Z
UID:58778-1695124800-1695132000@piraten.lu
SUMMARY:Table ronde chambre immobilière mam Gabriel Bleser
DESCRIPTION:Le chambre immobilière invite à sa table-ronde qui aura lieu le mardi 19 septembre à 12h durant laquelle deux thématiques seront abordées par trois représentants de trois partis politiques différents\, ainsi que par le président de la Chambre Immobilière\, M. Jean-Paul Scheuren.
URL:https://piraten.lu/event/table-ronde-chambre-immobiliere-mam-gabriel-bleser/
END:VEVENT
BEGIN:VEVENT
DTSTART;TZID=Europe/Luxembourg:20230919T120000
DTEND;TZID=Europe/Luxembourg:20230919T140000
DTSTAMP:20260426T002046
CREATED:20230911T100152Z
LAST-MODIFIED:20230911T100220Z
UID:58784-1695124800-1695132000@piraten.lu
SUMMARY:Table ronde chambre immobilière mam Gabriel Bleser
DESCRIPTION:Le chambre immobilière invite à sa table-ronde qui aura lieu le mardi 19 septembre à 12h durant laquelle deux thématiques seront abordées par trois représentants de trois partis politiques différents\, ainsi que par le président de la Chambre Immobilière\, M. Jean-Paul Scheuren.
URL:https://piraten.lu/event/table-ronde-chambre-immobiliere-mam-gabriel-bleser/
END:VEVENT
BEGIN:VEVENT
DTSTART;TZID=Europe/Luxembourg:20230919T120000
DTEND;TZID=Europe/Luxembourg:20230919T140000
DTSTAMP:20260426T002046
CREATED:20230911T100152Z
LAST-MODIFIED:20230911T100220Z
UID:58785-1695124800-1695132000@piraten.lu
SUMMARY:Table ronde chambre immobilière mam Gabriel Bleser
DESCRIPTION:Le chambre immobilière invite à sa table-ronde qui aura lieu le mardi 19 septembre à 12h durant laquelle deux thématiques seront abordées par trois représentants de trois partis politiques différents\, ainsi que par le président de la Chambre Immobilière\, M. Jean-Paul Scheuren.
URL:https://piraten.lu/event/table-ronde-chambre-immobiliere-mam-gabriel-bleser/
END:VEVENT
BEGIN:VEVENT
DTSTART;TZID=Europe/Luxembourg:20230919T120000
DTEND;TZID=Europe/Luxembourg:20230919T140000
DTSTAMP:20260426T002046
CREATED:20230911T100152Z
LAST-MODIFIED:20230911T100220Z
UID:58786-1695124800-1695132000@piraten.lu
SUMMARY:Table ronde chambre immobilière mam Gabriel Bleser
DESCRIPTION:Le chambre immobilière invite à sa table-ronde qui aura lieu le mardi 19 septembre à 12h durant laquelle deux thématiques seront abordées par trois représentants de trois partis politiques différents\, ainsi que par le président de la Chambre Immobilière\, M. Jean-Paul Scheuren.
URL:https://piraten.lu/event/table-ronde-chambre-immobiliere-mam-gabriel-bleser/
END:VEVENT
BEGIN:VEVENT
DTSTART;TZID=Europe/Luxembourg:20230916T080000
DTEND;TZID=Europe/Luxembourg:20230916T170000
DTSTAMP:20260426T002046
CREATED:20230727T122751Z
LAST-MODIFIED:20230727T122751Z
UID:53689-1694851200-1694883600@piraten.lu
SUMMARY:Hierschtmoart
DESCRIPTION:
URL:https://piraten.lu/event/hierschtmoart/
LOCATION:Esch/Alzette
END:VEVENT
BEGIN:VEVENT
DTSTART;VALUE=DATE:20230915
DTEND;VALUE=DATE:20230918
DTSTAMP:20260426T002046
CREATED:20230829T083454Z
LAST-MODIFIED:20230829T083454Z
UID:57745-1694736000-1694995199@piraten.lu
SUMMARY:Long live the summer mat de Jopis
DESCRIPTION:Kommt bis laanscht op Long Live the Summer wou eis Jonk Piraten een Stand hunn 🙂 \nFréides vun 15h-20h \nSamstes vun 10h bis 20h \nSonndes vun 10h bis 19h
URL:https://piraten.lu/event/long-live-the-summer-mat-de-jopis/
LOCATION:LuxExpo\, Luxembourg\, Luxembourg
END:VEVENT
BEGIN:VEVENT
DTSTART;TZID=Europe/Luxembourg:20230913T180000
DTEND;TZID=Europe/Luxembourg:20230913T200000
DTSTAMP:20260426T002046
CREATED:20230801T115314Z
LAST-MODIFIED:20230801T115314Z
UID:53990-1694628000-1694635200@piraten.lu
SUMMARY:Table ronde OGBL
DESCRIPTION:D’Piraten si mat dobäi wann et beim OGBL ëm eng modern Aarbechtwelt geet. \n 
URL:https://piraten.lu/event/table-ronde-ogbl/
LOCATION:Maison du peuple\, Maison du peuple\, Esch-sur-alzette\, L-4170\, Luxembourg
END:VEVENT
BEGIN:VEVENT
DTSTART;TZID=Europe/Luxembourg:20230913T083000
DTEND;TZID=Europe/Luxembourg:20230913T103000
DTSTAMP:20260426T002046
CREATED:20230911T095028Z
LAST-MODIFIED:20230911T095028Z
UID:58769-1694593800-1694601000@piraten.lu
SUMMARY:Diskussiounsronn bei der Representatioun vun der EU Kommissioun
DESCRIPTION:De Christian Welter vertrëtt hei d’Piraten a wäert nom State of the Union vum Von der Leyen hir Ried kommentéieren.
URL:https://piraten.lu/event/diskussiounsronn-bei-der-representatioun-vun-der-eu-kommissioun/
LOCATION:Foyer européen\, 10\, rue Heinrich Heine\, Luxembourg
END:VEVENT
BEGIN:VEVENT
DTSTART;TZID=Europe/Luxembourg:20230912T183000
DTEND;TZID=Europe/Luxembourg:20230912T200000
DTSTAMP:20260426T002046
CREATED:20230801T114646Z
LAST-MODIFIED:20230801T114646Z
UID:53987-1694543400-1694548800@piraten.lu
SUMMARY:Table ronde Mouvement écologique
DESCRIPTION:Thema Biodiversitéit / Landwirtschaft \n  \n \n\n\n\nD’Piraten sinn mat dobäi an mir stellen eis Proposen fir
URL:https://piraten.lu/event/table-ronde-mouvement-ecologique/
LOCATION:cercle cité\, Place d'Armes\, Luxembourg\, Luxembourg
END:VEVENT
BEGIN:VEVENT
DTSTART;TZID=Europe/Luxembourg:20230911T090000
DTEND;TZID=Europe/Luxembourg:20230911T180000
DTSTAMP:20260426T002046
CREATED:20230807T103806Z
LAST-MODIFIED:20230807T103806Z
UID:54098-1694422800-1694455200@piraten.lu
SUMMARY:Braderie zu Waasserbëlleg
DESCRIPTION:
URL:https://piraten.lu/event/braderie-zu-waasserbelleg/
END:VEVENT
BEGIN:VEVENT
DTSTART;TZID=Europe/Luxembourg:20230910T100000
DTEND;TZID=Europe/Luxembourg:20230910T180000
DTSTAMP:20260426T002046
CREATED:20230721T080349Z
LAST-MODIFIED:20230721T080349Z
UID:53642-1694340000-1694368800@piraten.lu
SUMMARY:Cliärrwer Braderie 2023
DESCRIPTION:
URL:https://piraten.lu/event/cliarrwer-braderie-2023/
LOCATION:Clervaux\, Luxembourg
END:VEVENT
BEGIN:VEVENT
DTSTART;VALUE=DATE:20230907
DTEND;VALUE=DATE:20230908
DTSTAMP:20260426T002046
CREATED:20230822T072825Z
LAST-MODIFIED:20230822T072825Z
UID:56662-1694044800-1694131199@piraten.lu
SUMMARY:D'Piraten op der Fouer
DESCRIPTION:Donneschden\, de 7te September\, ginn d’Piraten zesummen eppes op d’Schueberfouer iessen. Wanns de eis begéins so eis roueg Moien 🙂
URL:https://piraten.lu/event/dpiraten-op-der-fouer/
LOCATION:Glacis
END:VEVENT
BEGIN:VEVENT
DTSTART;VALUE=DATE:20230904
DTEND;VALUE=DATE:20230905
DTSTAMP:20260426T002046
CREATED:20230704T130904Z
LAST-MODIFIED:20230704T130904Z
UID:53424-1693785600-1693871999@piraten.lu
SUMMARY:Braderie Stad
DESCRIPTION:
URL:https://piraten.lu/event/braderie-stad/
END:VEVENT
BEGIN:VEVENT
DTSTART;TZID=Europe/Luxembourg:20230831T180000
DTEND;TZID=Europe/Luxembourg:20230831T230000
DTSTAMP:20260426T002046
CREATED:20230622T103004Z
LAST-MODIFIED:20230622T103004Z
UID:53242-1693504800-1693522800@piraten.lu
SUMMARY:Piraten um Schëff
DESCRIPTION:https://piraten.lupiraten-um-scheff-31-8-23/
URL:https://piraten.lu/event/piraten-um-scheff/
END:VEVENT
BEGIN:VEVENT
DTSTART;TZID=Europe/Luxembourg:20230730T110000
DTEND;TZID=Europe/Luxembourg:20230730T130000
DTSTAMP:20260426T002046
CREATED:20230622T100242Z
LAST-MODIFIED:20230622T100242Z
UID:53240-1690714800-1690722000@piraten.lu
SUMMARY:Kongress Bezierk Osten
DESCRIPTION:https://piraten.lubezierkskongress-osten-2023/
URL:https://piraten.lu/event/kongress-bezierk-osten/
END:VEVENT
BEGIN:VEVENT
DTSTART;TZID=Europe/Luxembourg:20230724T190000
DTEND;TZID=Europe/Luxembourg:20230724T190000
DTSTAMP:20260426T002046
CREATED:20230630T095152Z
LAST-MODIFIED:20230630T095319Z
UID:53394-1690225200-1690225200@piraten.lu
SUMMARY:Nordkongress
DESCRIPTION:De BezierkskongressNorden\, deen de Méinden\, de 24te Juli 2023\, ab 19h00 am Centre culturel zu Viichten stattfënnt. D’Adress ass 32\, rue Principale L-9190 Vichten.
URL:https://piraten.lu/event/nordkongress/
LOCATION:Centre culturel Vichten\, 32\, rue principale\, Vichten\, 9190\, Luxembourg
END:VEVENT
END:VCALENDAR