BEGIN:VCALENDAR
VERSION:2.0
PRODID:-//PIRATEN - ECPv6.15.16//NONSGML v1.0//EN
CALSCALE:GREGORIAN
METHOD:PUBLISH
X-WR-CALNAME:PIRATEN
X-ORIGINAL-URL:https://piraten.lu
X-WR-CALDESC:Events for PIRATEN
REFRESH-INTERVAL;VALUE=DURATION:PT1H
X-Robots-Tag:noindex
X-PUBLISHED-TTL:PT1H
BEGIN:VTIMEZONE
TZID:Europe/Luxembourg
BEGIN:DAYLIGHT
TZOFFSETFROM:+0100
TZOFFSETTO:+0200
TZNAME:CEST
DTSTART:20220327T010000
END:DAYLIGHT
BEGIN:STANDARD
TZOFFSETFROM:+0200
TZOFFSETTO:+0100
TZNAME:CET
DTSTART:20221030T010000
END:STANDARD
BEGIN:DAYLIGHT
TZOFFSETFROM:+0100
TZOFFSETTO:+0200
TZNAME:CEST
DTSTART:20230326T010000
END:DAYLIGHT
BEGIN:STANDARD
TZOFFSETFROM:+0200
TZOFFSETTO:+0100
TZNAME:CET
DTSTART:20231029T010000
END:STANDARD
BEGIN:DAYLIGHT
TZOFFSETFROM:+0100
TZOFFSETTO:+0200
TZNAME:CEST
DTSTART:20240331T010000
END:DAYLIGHT
BEGIN:STANDARD
TZOFFSETFROM:+0200
TZOFFSETTO:+0100
TZNAME:CET
DTSTART:20241027T010000
END:STANDARD
END:VTIMEZONE
BEGIN:VEVENT
DTSTART;TZID=Europe/Luxembourg:20230928T180000
DTEND;TZID=Europe/Luxembourg:20230928T200000
DTSTAMP:20260425T204800
CREATED:20230911T103416Z
LAST-MODIFIED:20230911T115039Z
UID:58836-1695924000-1695931200@piraten.lu
SUMMARY:Table ronde Foodsharing Luxembourg a.s.b.l.
DESCRIPTION:Dës Podiumsdiskussioun wäert den Donneschden\, den 28. September\, vun 18:00 bis 20:00 an de Räimlechkeeten vu Microtarians um Kierchbierg (Quartier Stuff/Microatelier\, rue Joseph Hackin 9) sinn. \n  \nD’Pirate wäerten hei duerch d’Josiane Engel vertruede sinn.
URL:https://piraten.lu/event/table-ronde-foodsharing-luxembourg-a-s-b-l/
LOCATION:Microtarians\, rue Joseph Hackin 9\, Kierchberg\, Luxembourg
END:VEVENT
BEGIN:VEVENT
DTSTART;TZID=Europe/Luxembourg:20230928T180000
DTEND;TZID=Europe/Luxembourg:20230928T200000
DTSTAMP:20260425T204800
CREATED:20230911T103416Z
LAST-MODIFIED:20230911T115040Z
UID:58837-1695924000-1695931200@piraten.lu
SUMMARY:Table ronde Foodsharing Luxembourg a.s.b.l.
DESCRIPTION:Dës Podiumsdiskussioun wäert den Donneschden\, den 28. September\, vun 18:00 bis 20:00 an de Räimlechkeeten vu Microtarians um Kierchbierg (Quartier Stuff/Microatelier\, rue Joseph Hackin 9) sinn. \n  \nD’Pirate wäerten hei duerch d’Josiane Engel vertruede sinn.
URL:https://piraten.lu/event/table-ronde-foodsharing-luxembourg-a-s-b-l/
LOCATION:Microtarians\, rue Joseph Hackin 9\, Kierchberg\, Luxembourg
END:VEVENT
BEGIN:VEVENT
DTSTART;TZID=Europe/Luxembourg:20230928T180000
DTEND;TZID=Europe/Luxembourg:20230928T200000
DTSTAMP:20260425T204800
CREATED:20230911T103416Z
LAST-MODIFIED:20230911T115040Z
UID:58838-1695924000-1695931200@piraten.lu
SUMMARY:Table ronde Foodsharing Luxembourg a.s.b.l.
DESCRIPTION:Dës Podiumsdiskussioun wäert den Donneschden\, den 28. September\, vun 18:00 bis 20:00 an de Räimlechkeeten vu Microtarians um Kierchbierg (Quartier Stuff/Microatelier\, rue Joseph Hackin 9) sinn. \n  \nD’Pirate wäerten hei duerch d’Josiane Engel vertruede sinn.
URL:https://piraten.lu/event/table-ronde-foodsharing-luxembourg-a-s-b-l/
LOCATION:Microtarians\, rue Joseph Hackin 9\, Kierchberg\, Luxembourg
END:VEVENT
BEGIN:VEVENT
DTSTART;TZID=Europe/Luxembourg:20230926T193000
DTEND;TZID=Europe/Luxembourg:20230926T213000
DTSTAMP:20260425T204800
CREATED:20230911T101819Z
LAST-MODIFIED:20230911T101819Z
UID:58817-1695756600-1695763800@piraten.lu
SUMMARY:Table ronde Wort mam Dr. Ted Schmit
DESCRIPTION:Kommt bis laanscht an lauschtert no. \nHei kënnt der iech umelden: https://wort.typeform.com/to/vjReaqw0?typeform-source=www.wort.lu \n\n\n\n\nDënschdeg\, de 26. September am Trifolion zu Iechternach\, um 19.30 Auer
URL:https://piraten.lu/event/table-ronde-wort-mam-dr-ted-schmit/
LOCATION:Trifolion\, Echternach\, Luxembourg
END:VEVENT
BEGIN:VEVENT
DTSTART;TZID=Europe/Luxembourg:20230926T193000
DTEND;TZID=Europe/Luxembourg:20230926T213000
DTSTAMP:20260425T204800
CREATED:20230911T101819Z
LAST-MODIFIED:20230911T101819Z
UID:58820-1695756600-1695763800@piraten.lu
SUMMARY:Table ronde Wort mam Dr. Ted Schmit
DESCRIPTION:Kommt bis laanscht an lauschtert no. \nHei kënnt der iech umelden: https://wort.typeform.com/to/vjReaqw0?typeform-source=www.wort.lu \n\n\n\n\nDënschdeg\, de 26. September am Trifolion zu Iechternach\, um 19.30 Auer
URL:https://piraten.lu/event/table-ronde-wort-mam-dr-ted-schmit/
LOCATION:Trifolion\, Echternach\, Luxembourg
END:VEVENT
BEGIN:VEVENT
DTSTART;TZID=Europe/Luxembourg:20230926T193000
DTEND;TZID=Europe/Luxembourg:20230926T213000
DTSTAMP:20260425T204800
CREATED:20230911T101819Z
LAST-MODIFIED:20230911T101819Z
UID:58821-1695756600-1695763800@piraten.lu
SUMMARY:Table ronde Wort mam Dr. Ted Schmit
DESCRIPTION:Kommt bis laanscht an lauschtert no. \nHei kënnt der iech umelden: https://wort.typeform.com/to/vjReaqw0?typeform-source=www.wort.lu \n\n\n\n\nDënschdeg\, de 26. September am Trifolion zu Iechternach\, um 19.30 Auer
URL:https://piraten.lu/event/table-ronde-wort-mam-dr-ted-schmit/
LOCATION:Trifolion\, Echternach\, Luxembourg
END:VEVENT
BEGIN:VEVENT
DTSTART;TZID=Europe/Luxembourg:20230926T193000
DTEND;TZID=Europe/Luxembourg:20230926T213000
DTSTAMP:20260425T204800
CREATED:20230911T101819Z
LAST-MODIFIED:20230911T101819Z
UID:58822-1695756600-1695763800@piraten.lu
SUMMARY:Table ronde Wort mam Dr. Ted Schmit
DESCRIPTION:Kommt bis laanscht an lauschtert no. \nHei kënnt der iech umelden: https://wort.typeform.com/to/vjReaqw0?typeform-source=www.wort.lu \n\n\n\n\nDënschdeg\, de 26. September am Trifolion zu Iechternach\, um 19.30 Auer
URL:https://piraten.lu/event/table-ronde-wort-mam-dr-ted-schmit/
LOCATION:Trifolion\, Echternach\, Luxembourg
END:VEVENT
BEGIN:VEVENT
DTSTART;TZID=Europe/Luxembourg:20230926T190000
DTEND;TZID=Europe/Luxembourg:20230926T210000
DTSTAMP:20260425T204800
CREATED:20230801T122840Z
LAST-MODIFIED:20230926T102243Z
UID:54020-1695754800-1695762000@piraten.lu
SUMMARY:Table ronde One planet Lëtzebuerg
DESCRIPTION:Wat sinn de Piraten hir Prioritéiten fir de Klimaschutz an de Kampf géint d’Klimakatastroph? \nDen Sven Clement ass mat dobäi als nationale Spëtzekandidat an Deputéierten \nParties facing the climate and biodiversity crises\, and the challenge of a just transition.
URL:https://piraten.lu/event/table-ronde-one-planet-letzebuerg/
LOCATION:Rotondes\, 3 Place des Rotondes\, Luxembourg\, Luxembourg
END:VEVENT
BEGIN:VEVENT
DTSTART;TZID=Europe/Luxembourg:20230926T190000
DTEND;TZID=Europe/Luxembourg:20230926T210000
DTSTAMP:20260425T204800
CREATED:20230801T122840Z
LAST-MODIFIED:20230926T102243Z
UID:59599-1695754800-1695762000@piraten.lu
SUMMARY:Table ronde One planet Lëtzebuerg
DESCRIPTION:Wat sinn de Piraten hir Prioritéiten fir de Klimaschutz an de Kampf géint d’Klimakatastroph? \nDen Sven Clement ass mat dobäi als nationale Spëtzekandidat an Deputéierten \nParties facing the climate and biodiversity crises\, and the challenge of a just transition.
URL:https://piraten.lu/event/table-ronde-one-planet-letzebuerg/
LOCATION:Rotondes\, 3 Place des Rotondes\, Luxembourg\, Luxembourg
END:VEVENT
BEGIN:VEVENT
DTSTART;TZID=Europe/Luxembourg:20230926T190000
DTEND;TZID=Europe/Luxembourg:20230926T210000
DTSTAMP:20260425T204800
CREATED:20230801T122840Z
LAST-MODIFIED:20230926T102243Z
UID:59600-1695754800-1695762000@piraten.lu
SUMMARY:Table ronde One planet Lëtzebuerg
DESCRIPTION:Wat sinn de Piraten hir Prioritéiten fir de Klimaschutz an de Kampf géint d’Klimakatastroph? \nDen Sven Clement ass mat dobäi als nationale Spëtzekandidat an Deputéierten \nParties facing the climate and biodiversity crises\, and the challenge of a just transition.
URL:https://piraten.lu/event/table-ronde-one-planet-letzebuerg/
LOCATION:Rotondes\, 3 Place des Rotondes\, Luxembourg\, Luxembourg
END:VEVENT
BEGIN:VEVENT
DTSTART;TZID=Europe/Luxembourg:20230926T190000
DTEND;TZID=Europe/Luxembourg:20230926T210000
DTSTAMP:20260425T204800
CREATED:20230801T122840Z
LAST-MODIFIED:20230926T102244Z
UID:59601-1695754800-1695762000@piraten.lu
SUMMARY:Table ronde One planet Lëtzebuerg
DESCRIPTION:Wat sinn de Piraten hir Prioritéiten fir de Klimaschutz an de Kampf géint d’Klimakatastroph? \nDen Sven Clement ass mat dobäi als nationale Spëtzekandidat an Deputéierten \nParties facing the climate and biodiversity crises\, and the challenge of a just transition.
URL:https://piraten.lu/event/table-ronde-one-planet-letzebuerg/
LOCATION:Rotondes\, 3 Place des Rotondes\, Luxembourg\, Luxembourg
END:VEVENT
BEGIN:VEVENT
DTSTART;TZID=Europe/Luxembourg:20230926T190000
DTEND;TZID=Europe/Luxembourg:20230926T210000
DTSTAMP:20260425T204800
CREATED:20230801T121110Z
LAST-MODIFIED:20230926T102333Z
UID:54009-1695754800-1695762000@piraten.lu
SUMMARY:Table ronde Bezierk Süden
DESCRIPTION:Wat sinn de Piraten hir Iddie fir ee bessert Liewen am Süde vum Land. Komm laanscht a fann et eraus. Fir d’Piraten wäert den Marc Goergen\, Partei Koordinator an Deputéierten dobäi sinn.
URL:https://piraten.lu/event/table-ronde-bezierk-suden/
LOCATION:Theater\, Esch-sur-alzette\, Luxembourg
END:VEVENT
BEGIN:VEVENT
DTSTART;TZID=Europe/Luxembourg:20230926T190000
DTEND;TZID=Europe/Luxembourg:20230926T210000
DTSTAMP:20260425T204800
CREATED:20230801T121110Z
LAST-MODIFIED:20230926T102333Z
UID:59605-1695754800-1695762000@piraten.lu
SUMMARY:Table ronde Bezierk Süden
DESCRIPTION:Wat sinn de Piraten hir Iddie fir ee bessert Liewen am Süde vum Land. Komm laanscht a fann et eraus. Fir d’Piraten wäert den Marc Goergen\, Partei Koordinator an Deputéierten dobäi sinn.
URL:https://piraten.lu/event/table-ronde-bezierk-suden/
LOCATION:Theater\, Esch-sur-alzette\, Luxembourg
END:VEVENT
BEGIN:VEVENT
DTSTART;TZID=Europe/Luxembourg:20230926T190000
DTEND;TZID=Europe/Luxembourg:20230926T210000
DTSTAMP:20260425T204800
CREATED:20230801T121110Z
LAST-MODIFIED:20230926T102333Z
UID:59606-1695754800-1695762000@piraten.lu
SUMMARY:Table ronde Bezierk Süden
DESCRIPTION:Wat sinn de Piraten hir Iddie fir ee bessert Liewen am Süde vum Land. Komm laanscht a fann et eraus. Fir d’Piraten wäert den Marc Goergen\, Partei Koordinator an Deputéierten dobäi sinn.
URL:https://piraten.lu/event/table-ronde-bezierk-suden/
LOCATION:Theater\, Esch-sur-alzette\, Luxembourg
END:VEVENT
BEGIN:VEVENT
DTSTART;TZID=Europe/Luxembourg:20230926T190000
DTEND;TZID=Europe/Luxembourg:20230926T210000
DTSTAMP:20260425T204800
CREATED:20230801T121110Z
LAST-MODIFIED:20230926T102334Z
UID:59607-1695754800-1695762000@piraten.lu
SUMMARY:Table ronde Bezierk Süden
DESCRIPTION:Wat sinn de Piraten hir Iddie fir ee bessert Liewen am Süde vum Land. Komm laanscht a fann et eraus. Fir d’Piraten wäert den Marc Goergen\, Partei Koordinator an Deputéierten dobäi sinn.
URL:https://piraten.lu/event/table-ronde-bezierk-suden/
LOCATION:Theater\, Esch-sur-alzette\, Luxembourg
END:VEVENT
BEGIN:VEVENT
DTSTART;TZID=Europe/Luxembourg:20230923T000000
DTEND;TZID=Europe/Luxembourg:20230923T180000
DTSTAMP:20260425T204800
CREATED:20230801T122330Z
LAST-MODIFIED:20230801T122330Z
UID:54016-1695427200-1695492000@piraten.lu
SUMMARY:Table ronde Faites logement
DESCRIPTION:Wat sinn de Piraten hir Prioritéiten am Logement? De Gilles Mertz ass fir d’Piraten mat op der Faites du logement dobäi.
URL:https://piraten.lu/event/table-ronde-faites-logement/
LOCATION:Place du Parc à Bonnevoie\, Luxembourg\, Luxembourg
END:VEVENT
BEGIN:VEVENT
DTSTART;TZID=Europe/Luxembourg:20230922T180000
DTEND;TZID=Europe/Luxembourg:20230922T193000
DTSTAMP:20260425T204800
CREATED:20230801T122039Z
LAST-MODIFIED:20230801T122058Z
UID:54012-1695405600-1695411000@piraten.lu
SUMMARY:Table ronde CID Fraen an Gender
DESCRIPTION:De Schwéierpunkt vun dëser Table-Ronde ass et wichteg Walsujeten aus enger feministescher a gendersensibeler Perspektiv ze beliichten an eraus ze fannen\, wéi eng politesch Mesuren déi jeeweileg Parteien an dësem Kontext proposéieren. \nFir d’Piraten wäerten den Christian Welter an d’Sonja Scalise dobäi sinn.
URL:https://piraten.lu/event/54012/
LOCATION:To be confimed
END:VEVENT
BEGIN:VEVENT
DTSTART;TZID=Europe/Luxembourg:20230921T193000
DTEND;TZID=Europe/Luxembourg:20230921T213000
DTSTAMP:20260425T204800
CREATED:20230911T101549Z
LAST-MODIFIED:20230911T101623Z
UID:58807-1695324600-1695331800@piraten.lu
SUMMARY:Table ronde Wort mam Marc Goergen
DESCRIPTION:Kommt bis laanscht an lauschtert no. \nHei kënnt der iech umelden: https://wort.typeform.com/to/vjReaqw0?typeform-source=www.wort.lu \nDonneschdeg\, den 21. September an der Halle des Poches à Fonte um Belval\, um 19.30 Auer
URL:https://piraten.lu/event/table-ronde-wort-mam-marc-goergen/
LOCATION:Halle des Poches à Fonte\, Esch Beval\, Luxembourg
END:VEVENT
BEGIN:VEVENT
DTSTART;TZID=Europe/Luxembourg:20230921T193000
DTEND;TZID=Europe/Luxembourg:20230921T213000
DTSTAMP:20260425T204800
CREATED:20230911T101549Z
LAST-MODIFIED:20230911T101623Z
UID:58810-1695324600-1695331800@piraten.lu
SUMMARY:Table ronde Wort mam Marc Goergen
DESCRIPTION:Kommt bis laanscht an lauschtert no. \nHei kënnt der iech umelden: https://wort.typeform.com/to/vjReaqw0?typeform-source=www.wort.lu \nDonneschdeg\, den 21. September an der Halle des Poches à Fonte um Belval\, um 19.30 Auer
URL:https://piraten.lu/event/table-ronde-wort-mam-marc-goergen/
LOCATION:Halle des Poches à Fonte\, Esch Beval\, Luxembourg
END:VEVENT
BEGIN:VEVENT
DTSTART;TZID=Europe/Luxembourg:20230921T193000
DTEND;TZID=Europe/Luxembourg:20230921T213000
DTSTAMP:20260425T204800
CREATED:20230911T101549Z
LAST-MODIFIED:20230911T101623Z
UID:58811-1695324600-1695331800@piraten.lu
SUMMARY:Table ronde Wort mam Marc Goergen
DESCRIPTION:Kommt bis laanscht an lauschtert no. \nHei kënnt der iech umelden: https://wort.typeform.com/to/vjReaqw0?typeform-source=www.wort.lu \nDonneschdeg\, den 21. September an der Halle des Poches à Fonte um Belval\, um 19.30 Auer
URL:https://piraten.lu/event/table-ronde-wort-mam-marc-goergen/
LOCATION:Halle des Poches à Fonte\, Esch Beval\, Luxembourg
END:VEVENT
BEGIN:VEVENT
DTSTART;TZID=Europe/Luxembourg:20230921T193000
DTEND;TZID=Europe/Luxembourg:20230921T213000
DTSTAMP:20260425T204800
CREATED:20230911T101549Z
LAST-MODIFIED:20230911T101624Z
UID:58812-1695324600-1695331800@piraten.lu
SUMMARY:Table ronde Wort mam Marc Goergen
DESCRIPTION:Kommt bis laanscht an lauschtert no. \nHei kënnt der iech umelden: https://wort.typeform.com/to/vjReaqw0?typeform-source=www.wort.lu \nDonneschdeg\, den 21. September an der Halle des Poches à Fonte um Belval\, um 19.30 Auer
URL:https://piraten.lu/event/table-ronde-wort-mam-marc-goergen/
LOCATION:Halle des Poches à Fonte\, Esch Beval\, Luxembourg
END:VEVENT
BEGIN:VEVENT
DTSTART;TZID=Europe/Luxembourg:20230921T190000
DTEND;TZID=Europe/Luxembourg:20230921T210000
DTSTAMP:20260425T204800
CREATED:20230911T101250Z
LAST-MODIFIED:20230911T101250Z
UID:58783-1695322800-1695330000@piraten.lu
SUMMARY:Table ronde Association Luxembourgeoise de Criminologie
DESCRIPTION:Wéi stinn d’Piraten zur Sécherheetspolitik? Kommt laanscht an fannt et eraus 🙂
URL:https://piraten.lu/event/table-ronde-association-luxembourgeoise-de-criminologie/
LOCATION:Centre Culturel « An der Eech »\, Leudelange\, Luxembourg
END:VEVENT
BEGIN:VEVENT
DTSTART;TZID=Europe/Luxembourg:20230921T190000
DTEND;TZID=Europe/Luxembourg:20230921T210000
DTSTAMP:20260425T204800
CREATED:20230911T101250Z
LAST-MODIFIED:20230911T101250Z
UID:58804-1695322800-1695330000@piraten.lu
SUMMARY:Table ronde Association Luxembourgeoise de Criminologie
DESCRIPTION:Wéi stinn d’Piraten zur Sécherheetspolitik? Kommt laanscht an fannt et eraus 🙂
URL:https://piraten.lu/event/table-ronde-association-luxembourgeoise-de-criminologie/
LOCATION:Centre Culturel « An der Eech »\, Leudelange\, Luxembourg
END:VEVENT
BEGIN:VEVENT
DTSTART;TZID=Europe/Luxembourg:20230921T190000
DTEND;TZID=Europe/Luxembourg:20230921T210000
DTSTAMP:20260425T204800
CREATED:20230911T101250Z
LAST-MODIFIED:20230911T101250Z
UID:58805-1695322800-1695330000@piraten.lu
SUMMARY:Table ronde Association Luxembourgeoise de Criminologie
DESCRIPTION:Wéi stinn d’Piraten zur Sécherheetspolitik? Kommt laanscht an fannt et eraus 🙂
URL:https://piraten.lu/event/table-ronde-association-luxembourgeoise-de-criminologie/
LOCATION:Centre Culturel « An der Eech »\, Leudelange\, Luxembourg
END:VEVENT
BEGIN:VEVENT
DTSTART;TZID=Europe/Luxembourg:20230921T190000
DTEND;TZID=Europe/Luxembourg:20230921T210000
DTSTAMP:20260425T204800
CREATED:20230911T101250Z
LAST-MODIFIED:20230911T101250Z
UID:58806-1695322800-1695330000@piraten.lu
SUMMARY:Table ronde Association Luxembourgeoise de Criminologie
DESCRIPTION:Wéi stinn d’Piraten zur Sécherheetspolitik? Kommt laanscht an fannt et eraus 🙂
URL:https://piraten.lu/event/table-ronde-association-luxembourgeoise-de-criminologie/
LOCATION:Centre Culturel « An der Eech »\, Leudelange\, Luxembourg
END:VEVENT
BEGIN:VEVENT
DTSTART;TZID=Europe/Luxembourg:20230921T190000
DTEND;TZID=Europe/Luxembourg:20230921T210000
DTSTAMP:20260425T204800
CREATED:20230801T120855Z
LAST-MODIFIED:20230801T120855Z
UID:54005-1695322800-1695330000@piraten.lu
SUMMARY:Table ronde Tageblatt Bezierk Osten
DESCRIPTION:Eng Table ronde mat den Bezierksspëtzenkandidaten. Fir d’Piraten wäert den Dan Frères mat dobäi sinn. Komm bis laanscht nolauschteren an duerno mat eis diskutéieren!
URL:https://piraten.lu/event/table-ronde-tageblatt-bezierk-osten/
LOCATION:entre culturel “Martialis”\, Ellange\, Luxembourg
END:VEVENT
BEGIN:VEVENT
DTSTART;TZID=Europe/Luxembourg:20230920T190000
DTEND;TZID=Europe/Luxembourg:20230920T210000
DTSTAMP:20260425T204800
CREATED:20230801T120211Z
LAST-MODIFIED:20230801T120211Z
UID:53996-1695236400-1695243600@piraten.lu
SUMMARY:Table ronde CLAE
DESCRIPTION:Table ronde zum Thema \n\n\n\nImmigratioun an Zesummeliewen\n\n\n\nD’Piraten si vertrueden duerch eise Spriecher den Starsky Flor. Kommt laanscht!
URL:https://piraten.lu/event/table-ronde-clae/
END:VEVENT
BEGIN:VEVENT
DTSTART;TZID=Europe/Luxembourg:20230920T190000
DTEND;TZID=Europe/Luxembourg:20230920T190000
DTSTAMP:20260425T204800
CREATED:20230801T120616Z
LAST-MODIFIED:20230801T120616Z
UID:54002-1695236400-1695236400@piraten.lu
SUMMARY:Table ronde Tageblatt Bezierk Zentrum
DESCRIPTION:Table ronde mat den Bezierksspëtzekandidaten aus dem Bezierk Zentrum. Sierf dobäi a komm bis laanscht!
URL:https://piraten.lu/event/table-ronde-tageblatt-bezierk-zentrum/
LOCATION:centre polyvalent “A Schommesch”\, Oberanven
END:VEVENT
BEGIN:VEVENT
DTSTART;TZID=Europe/Luxembourg:20230920T180000
DTEND;TZID=Europe/Luxembourg:20230920T200000
DTSTAMP:20260425T204800
CREATED:20230801T120410Z
LAST-MODIFIED:20230801T120410Z
UID:53999-1695232800-1695240000@piraten.lu
SUMMARY:Table ronde ProVelo
DESCRIPTION:D’Piraten schwätze mat iwwert d’mobilité douce. Eisen Südkandidat den Chris Bernard vertrëtt d’Piraten op der Table ronde.
URL:https://piraten.lu/event/table-ronde-provelo/
END:VEVENT
BEGIN:VEVENT
DTSTART;TZID=Europe/Luxembourg:20230919T193000
DTEND;TZID=Europe/Luxembourg:20230919T213000
DTSTAMP:20260425T204800
CREATED:20230911T100434Z
LAST-MODIFIED:20230911T100450Z
UID:58790-1695151800-1695159000@piraten.lu
SUMMARY:Table ronde vum Wort zum Norden mam Ben Polidori
DESCRIPTION:Dënschdeg\, den 19. September am CAPE zu Ettelbréck\, um 19.30 Auer \nKommt bis laanscht an lauschtert eisem Nord Spëtzekandidat no \nHei kënnt der iech umelden: https://wort.typeform.com/to/vjReaqw0?typeform-source=www.wort.lu
URL:https://piraten.lu/event/table-ronde-vum-wort-zum-norden-mam-ben-polidori/
LOCATION:CAPE\, Ettelbruck\, Luxembourg
END:VEVENT
END:VCALENDAR