BEGIN:VCALENDAR
VERSION:2.0
PRODID:-//PIRATEN - ECPv6.15.16//NONSGML v1.0//EN
CALSCALE:GREGORIAN
METHOD:PUBLISH
X-WR-CALNAME:PIRATEN
X-ORIGINAL-URL:https://piraten.lu
X-WR-CALDESC:Events for PIRATEN
REFRESH-INTERVAL;VALUE=DURATION:PT1H
X-Robots-Tag:noindex
X-PUBLISHED-TTL:PT1H
BEGIN:VTIMEZONE
TZID:Europe/Luxembourg
BEGIN:DAYLIGHT
TZOFFSETFROM:+0100
TZOFFSETTO:+0200
TZNAME:CEST
DTSTART:20220327T010000
END:DAYLIGHT
BEGIN:STANDARD
TZOFFSETFROM:+0200
TZOFFSETTO:+0100
TZNAME:CET
DTSTART:20221030T010000
END:STANDARD
BEGIN:DAYLIGHT
TZOFFSETFROM:+0100
TZOFFSETTO:+0200
TZNAME:CEST
DTSTART:20230326T010000
END:DAYLIGHT
BEGIN:STANDARD
TZOFFSETFROM:+0200
TZOFFSETTO:+0100
TZNAME:CET
DTSTART:20231029T010000
END:STANDARD
BEGIN:DAYLIGHT
TZOFFSETFROM:+0100
TZOFFSETTO:+0200
TZNAME:CEST
DTSTART:20240331T010000
END:DAYLIGHT
BEGIN:STANDARD
TZOFFSETFROM:+0200
TZOFFSETTO:+0100
TZNAME:CET
DTSTART:20241027T010000
END:STANDARD
BEGIN:DAYLIGHT
TZOFFSETFROM:+0100
TZOFFSETTO:+0200
TZNAME:CEST
DTSTART:20250330T010000
END:DAYLIGHT
BEGIN:STANDARD
TZOFFSETFROM:+0200
TZOFFSETTO:+0100
TZNAME:CET
DTSTART:20251026T010000
END:STANDARD
END:VTIMEZONE
BEGIN:VEVENT
DTSTART;TZID=Europe/Luxembourg:20240416T190000
DTEND;TZID=Europe/Luxembourg:20240416T203000
DTSTAMP:20260425T145841
CREATED:20240315T114930Z
LAST-MODIFIED:20240315T114930Z
UID:64831-1713294000-1713299400@piraten.lu
SUMMARY:Kongress Sektioun Käl
DESCRIPTION:Ahoi ! \nD’Sektioun Käl/Téiteng invitéiert op de Sektiounskongress (Generalversammlung) de 16ten Abrëll 2024 um 19h00. \nDe Kongress wert stattfanden um Café op der Platz. \nDéi genee Adress ass 4 Rue de Tetange\, 3672 Tétange Kayl. \nUm Kongress wäert een neien Sektiounscomité gewielt ginn.  \nDe genee Programm gesäit esou aus: \n– Begréissung an Erëffnung\n– Wal vun der Kongressleedung\n– Wal vum Bezierkscomité\n(Kandidaturen via ahoi@piraten.lu oder per Post)\n– 1 Koordinator\n– 6 weider Comitésmemberen\n– Divers\n– Owesiessen \n  \nAll Member ass wëllkomm\, och Leit ausserhalb vun der Sektioun 🙂
URL:https://piraten.lu/event/kongress-sektioun-kal/
END:VEVENT
BEGIN:VEVENT
DTSTART;TZID=Europe/Luxembourg:20240415T190000
DTEND;TZID=Europe/Luxembourg:20240415T220000
DTSTAMP:20260425T145841
CREATED:20240109T121755Z
LAST-MODIFIED:20240109T121755Z
UID:62729-1713207600-1713218400@piraten.lu
SUMMARY:Parteileedung 15ten Abrëll 2024
DESCRIPTION:
URL:https://piraten.lu/event/parteileedung-15ten-abrell-2024/
END:VEVENT
BEGIN:VEVENT
DTSTART;TZID=Europe/Luxembourg:20240401T100000
DTEND;TZID=Europe/Luxembourg:20240401T130000
DTSTAMP:20260425T145841
CREATED:20240328T101220Z
LAST-MODIFIED:20240328T101220Z
UID:65254-1711965600-1711976400@piraten.lu
SUMMARY:Piraten op der Stater Emaischen
DESCRIPTION:
URL:https://piraten.lu/event/piraten-op-der-stater-emaischen/
END:VEVENT
BEGIN:VEVENT
DTSTART;TZID=Europe/Luxembourg:20240323T163000
DTEND;TZID=Europe/Luxembourg:20240324T200000
DTSTAMP:20260425T145841
CREATED:20240208T093911Z
LAST-MODIFIED:20240208T093911Z
UID:63561-1711211400-1711310400@piraten.lu
SUMMARY:Piraten um Relais pour la Vie
DESCRIPTION:Relais pour la Vie 2024
URL:https://piraten.lu/event/piraten-um-relais-pour-la-vie/
LOCATION:Coque
END:VEVENT
BEGIN:VEVENT
DTSTART;TZID=Europe/Luxembourg:20240308T170000
DTEND;TZID=Europe/Luxembourg:20240308T190000
DTSTAMP:20260425T145841
CREATED:20240215T113600Z
LAST-MODIFIED:20240301T082011Z
UID:63816-1709917200-1709924400@piraten.lu
SUMMARY:Marche féministe 2024
DESCRIPTION:
URL:https://piraten.lu/event/marche-feministe-2024/
LOCATION:Luxembourg
END:VEVENT
BEGIN:VEVENT
DTSTART;TZID=Europe/Luxembourg:20240304T190000
DTEND;TZID=Europe/Luxembourg:20240304T220000
DTSTAMP:20260425T145841
CREATED:20240109T121640Z
LAST-MODIFIED:20240109T121640Z
UID:62725-1709578800-1709589600@piraten.lu
SUMMARY:Parteileedung 4te Mäerz 2024
DESCRIPTION:
URL:https://piraten.lu/event/parteileedung-4te-maerz-2024/
END:VEVENT
BEGIN:VEVENT
DTSTART;TZID=Europe/Luxembourg:20240226T190000
DTEND;TZID=Europe/Luxembourg:20240226T210000
DTSTAMP:20260425T145841
CREATED:20240223T103613Z
LAST-MODIFIED:20240223T103613Z
UID:64003-1708974000-1708981200@piraten.lu
SUMMARY:Aarbechtsgrupp Europa
DESCRIPTION:All Pirat krut eng E-mail Invitatioun. \nCheck deng Inbox 🙂
URL:https://piraten.lu/event/aarbechtsgrupp-europa/
END:VEVENT
BEGIN:VEVENT
DTSTART;TZID=Europe/Luxembourg:20240224T143000
DTEND;TZID=Europe/Luxembourg:20240224T170000
DTSTAMP:20260425T145841
CREATED:20240215T114030Z
LAST-MODIFIED:20240215T114030Z
UID:63820-1708785000-1708794000@piraten.lu
SUMMARY:Preparatioun Marche Féministe
DESCRIPTION:
URL:https://piraten.lu/event/preparatioun-marche-feministe/
LOCATION:HQ Kopstal
END:VEVENT
BEGIN:VEVENT
DTSTART;VALUE=DATE:20240223
DTEND;VALUE=DATE:20240226
DTSTAMP:20260425T145841
CREATED:20240206T140139Z
LAST-MODIFIED:20240206T140139Z
UID:63502-1708646400-1708905599@piraten.lu
SUMMARY:Piraten um Festival des migrations
DESCRIPTION:https://festivaldesmigrations.lu/
URL:https://piraten.lu/event/piraten-um-festival-des-migrations/
END:VEVENT
BEGIN:VEVENT
DTSTART;TZID=Europe/Luxembourg:20240205T190000
DTEND;TZID=Europe/Luxembourg:20240205T210000
DTSTAMP:20260425T145841
CREATED:20240109T121559Z
LAST-MODIFIED:20240109T192930Z
UID:62723-1707159600-1707166800@piraten.lu
SUMMARY:Parteileedung 5te Februar 2024
DESCRIPTION:
URL:https://piraten.lu/event/parteileedung-5te-februar-2024/
END:VEVENT
BEGIN:VEVENT
DTSTART;VALUE=DATE:20240127
DTEND;VALUE=DATE:20240128
DTSTAMP:20260425T145841
CREATED:20231215T084706Z
LAST-MODIFIED:20240124T153300Z
UID:62255-1706313600-1706399999@piraten.lu
SUMMARY:Landeskongress 2024
DESCRIPTION:Landeskongress 2024 \n \n 
URL:https://piraten.lu/event/landeskongress-2024/
END:VEVENT
BEGIN:VEVENT
DTSTART;TZID=Europe/Luxembourg:20240120T100000
DTEND;TZID=Europe/Luxembourg:20240120T170000
DTSTAMP:20260425T145841
CREATED:20231220T082739Z
LAST-MODIFIED:20231220T082755Z
UID:62371-1705744800-1705770000@piraten.lu
SUMMARY:Bezierkskongress Süden 2024
DESCRIPTION:Ahoi ! \nMir invitéieren dech heimadder häerzlech op de Süd-Kongress\, deen de Samschden\, den 20te Januar 2024\, ab 10h00 am Kulturhaus Käerjenger Treff stattfënnt. D’Adress ass 54c Avenue de Luxembourg\, L-4950 Bascharage. \nDe virleefege Programm vum Kongress gesäit esou aus:  \n\nBegréissung an Erëffnung duerch de Marc Goergen\, Deputéierten a Koordinator\nWal vun der Kongressleedung\nWal vum Bezierkscomité fir déi nächst 2 Joer (Kandidaturen via ahoi@piraten.lu oder per Post)\n\n1 Koordinator\n1 Tresorier\nWeider Comitésmemberen\n\n\nWal vun 2 Keessepréifer\nDivers\nMëttegiessen (Flatrate)\n\nMembersbäitrag 2024 \nDenk drun\, ab dem 1te Januar 2024 däi Membersbäitrag vun 10€ fir d’Joer 2024 ze bezuelen\, fir um Kongress kënnen ofzestëmmen. De Betrag kanns du op de folgende Konto iwwerweisen:\nPiratepartei Lëtzebuerg asbl BCEELULL LU67 0019 3255 6480 6000\nSchreif w.e.g. an d’Kommunikatioun: “Membersbäitrag 2024 + däin Numm” \nDu kanns däi Membersbäitrag fir 2024 och ganz einfach mat der Kreditkaart um folgende Link bezuehlen: cotisation.pp.lu  \nMëttegiessen um Kongress (Flatrate) \nD’Flatrate fir Iessen a Gedrénks kanns du hei bezuelen: https://book.stripe.com/8wM00d0w9a7O1vq3cB\n\nAlternativ kanns du einfach ee Virement op folgende Bankkonto maachen: \nPiratepartei Lëtzebuerg asbl BCEELULL LU67 0019 3255 6480 6000\nSchreif w.e.g. an d’Kommunikatioun\n“Flatrate Kongress Süden 2024 + Unzuel u Kanner an Erwuessener” \nMir freeën eis op dech ! \nDeng PIRATEN
URL:https://piraten.lu/event/bezierkskongress-suden-2024/
END:VEVENT
BEGIN:VEVENT
DTSTART;TZID=Europe/Luxembourg:20240108T180000
DTEND;TZID=Europe/Luxembourg:20240108T180000
DTSTAMP:20260425T145841
CREATED:20231220T082832Z
LAST-MODIFIED:20231220T082832Z
UID:62374-1704736800-1704736800@piraten.lu
SUMMARY:Parteileedung
DESCRIPTION:
URL:https://piraten.lu/event/parteileedung-3/
END:VEVENT
BEGIN:VEVENT
DTSTART;TZID=Europe/Luxembourg:20231008T180000
DTEND;TZID=Europe/Luxembourg:20231008T220000
DTSTAMP:20260425T145841
CREATED:20231006T135817Z
LAST-MODIFIED:20231006T135817Z
UID:59777-1696788000-1696802400@piraten.lu
SUMMARY:Walowend zesumme féieren!
DESCRIPTION:Kommt bis op eis Walparty a Clausen: \nhttps://piraten.luwalparty-2023/
URL:https://piraten.lu/event/walowend-zesumme-feieren/
LOCATION:Grizzly
END:VEVENT
BEGIN:VEVENT
DTSTART;VALUE=DATE:20231007
DTEND;VALUE=DATE:20231008
DTSTAMP:20260425T145841
CREATED:20230914T073806Z
LAST-MODIFIED:20230914T074309Z
UID:58943-1696636800-1696723199@piraten.lu
SUMMARY:Braderie zu Rumelange
DESCRIPTION:D’Südpiraten hunn hei een Stand. Komm bis laanscht eis Moien soen ! 🙂
URL:https://piraten.lu/event/braderie-zu-rumelange/
LOCATION:Rumelange\, Rumelange
END:VEVENT
BEGIN:VEVENT
DTSTART;VALUE=DATE:20231007
DTEND;VALUE=DATE:20231008
DTSTAMP:20260425T145841
CREATED:20230914T073806Z
LAST-MODIFIED:20230914T074310Z
UID:58951-1696636800-1696723199@piraten.lu
SUMMARY:Braderie zu Rumelange
DESCRIPTION:D’Südpiraten hunn hei een Stand. Komm bis laanscht eis Moien soen ! 🙂
URL:https://piraten.lu/event/braderie-zu-rumelange/
LOCATION:Rumelange\, Rumelange
END:VEVENT
BEGIN:VEVENT
DTSTART;VALUE=DATE:20231007
DTEND;VALUE=DATE:20231008
DTSTAMP:20260425T145841
CREATED:20230914T073806Z
LAST-MODIFIED:20230914T074310Z
UID:58952-1696636800-1696723199@piraten.lu
SUMMARY:Braderie zu Rumelange
DESCRIPTION:D’Südpiraten hunn hei een Stand. Komm bis laanscht eis Moien soen ! 🙂
URL:https://piraten.lu/event/braderie-zu-rumelange/
LOCATION:Rumelange\, Rumelange
END:VEVENT
BEGIN:VEVENT
DTSTART;VALUE=DATE:20231007
DTEND;VALUE=DATE:20231008
DTSTAMP:20260425T145841
CREATED:20230914T073806Z
LAST-MODIFIED:20230914T074310Z
UID:58953-1696636800-1696723199@piraten.lu
SUMMARY:Braderie zu Rumelange
DESCRIPTION:D’Südpiraten hunn hei een Stand. Komm bis laanscht eis Moien soen ! 🙂
URL:https://piraten.lu/event/braderie-zu-rumelange/
LOCATION:Rumelange\, Rumelange
END:VEVENT
BEGIN:VEVENT
DTSTART;TZID=Europe/Luxembourg:20231005T183000
DTEND;TZID=Europe/Luxembourg:20231005T203000
DTSTAMP:20260425T145841
CREATED:20230801T123435Z
LAST-MODIFIED:20230926T102040Z
UID:54027-1696530600-1696537800@piraten.lu
SUMMARY:2t Table ronde mam MouvEco mam Tommy Klein
DESCRIPTION:Themen: \n\n\n\nWuesstem / Landsplanung
URL:https://piraten.lu/event/2t-table-ronde-mam-mouveco/
LOCATION:cercle cité\, Place d'Armes\, Luxembourg\, Luxembourg
END:VEVENT
BEGIN:VEVENT
DTSTART;TZID=Europe/Luxembourg:20231005T183000
DTEND;TZID=Europe/Luxembourg:20231005T203000
DTSTAMP:20260425T145841
CREATED:20230801T123435Z
LAST-MODIFIED:20230801T123435Z
UID:58766-1696530600-1696537800@piraten.lu
SUMMARY:2t Table ronde mam MouvEco
DESCRIPTION:Themen: \n\n\n\nWuesstem / Landsplanung
URL:https://piraten.lu/event/2t-table-ronde-mam-mouveco/
LOCATION:cercle cité\, Place d'Armes\, Luxembourg\, Luxembourg
END:VEVENT
BEGIN:VEVENT
DTSTART;TZID=Europe/Luxembourg:20231005T183000
DTEND;TZID=Europe/Luxembourg:20231005T203000
DTSTAMP:20260425T145841
CREATED:20230801T123435Z
LAST-MODIFIED:20230801T123435Z
UID:58767-1696530600-1696537800@piraten.lu
SUMMARY:2t Table ronde mam MouvEco
DESCRIPTION:Themen: \n\n\n\nWuesstem / Landsplanung
URL:https://piraten.lu/event/2t-table-ronde-mam-mouveco-2/
LOCATION:cercle cité\, Place d'Armes\, Luxembourg\, Luxembourg
END:VEVENT
BEGIN:VEVENT
DTSTART;TZID=Europe/Luxembourg:20231005T183000
DTEND;TZID=Europe/Luxembourg:20231005T203000
DTSTAMP:20260425T145841
CREATED:20230801T123435Z
LAST-MODIFIED:20230926T102041Z
UID:59578-1696530600-1696537800@piraten.lu
SUMMARY:2t Table ronde mam MouvEco mam Tommy Klein
DESCRIPTION:Themen: \n\n\n\nWuesstem / Landsplanung
URL:https://piraten.lu/event/2t-table-ronde-mam-mouveco/
LOCATION:cercle cité\, Place d'Armes\, Luxembourg\, Luxembourg
END:VEVENT
BEGIN:VEVENT
DTSTART;TZID=Europe/Luxembourg:20231005T183000
DTEND;TZID=Europe/Luxembourg:20231005T203000
DTSTAMP:20260425T145841
CREATED:20230801T123435Z
LAST-MODIFIED:20230926T102041Z
UID:59579-1696530600-1696537800@piraten.lu
SUMMARY:2t Table ronde mam MouvEco mam Tommy Klein
DESCRIPTION:Themen: \n\n\n\nWuesstem / Landsplanung
URL:https://piraten.lu/event/2t-table-ronde-mam-mouveco/
LOCATION:cercle cité\, Place d'Armes\, Luxembourg\, Luxembourg
END:VEVENT
BEGIN:VEVENT
DTSTART;VALUE=DATE:20231005
DTEND;VALUE=DATE:20231006
DTSTAMP:20260425T145841
CREATED:20230911T124723Z
LAST-MODIFIED:20230911T124858Z
UID:58872-1696464000-1696550399@piraten.lu
SUMMARY:Home and Living Expo
DESCRIPTION:D’Piraten kréien hei d’Chance fir hir Logementsproposen nach eng Kéier virzestellen. De Gilles Mertz\, Kandidat aus dem Süden wäert dat fir d’Piraten maachen.
URL:https://piraten.lu/event/home-and-living-expo/
LOCATION:LuxExpo\, Luxembourg\, Luxembourg
END:VEVENT
BEGIN:VEVENT
DTSTART;VALUE=DATE:20231005
DTEND;VALUE=DATE:20231006
DTSTAMP:20260425T145841
CREATED:20230911T124723Z
LAST-MODIFIED:20230911T124859Z
UID:58874-1696464000-1696550399@piraten.lu
SUMMARY:Home and Living Expo
DESCRIPTION:D’Piraten kréien hei d’Chance fir hir Logementsproposen nach eng Kéier virzestellen. De Gilles Mertz\, Kandidat aus dem Süden wäert dat fir d’Piraten maachen.
URL:https://piraten.lu/event/home-and-living-expo/
LOCATION:LuxExpo\, Luxembourg\, Luxembourg
END:VEVENT
BEGIN:VEVENT
DTSTART;VALUE=DATE:20231005
DTEND;VALUE=DATE:20231006
DTSTAMP:20260425T145841
CREATED:20230911T124723Z
LAST-MODIFIED:20230911T124859Z
UID:58875-1696464000-1696550399@piraten.lu
SUMMARY:Home and Living Expo
DESCRIPTION:D’Piraten kréien hei d’Chance fir hir Logementsproposen nach eng Kéier virzestellen. De Gilles Mertz\, Kandidat aus dem Süden wäert dat fir d’Piraten maachen.
URL:https://piraten.lu/event/home-and-living-expo/
LOCATION:LuxExpo\, Luxembourg\, Luxembourg
END:VEVENT
BEGIN:VEVENT
DTSTART;VALUE=DATE:20231005
DTEND;VALUE=DATE:20231006
DTSTAMP:20260425T145841
CREATED:20230911T124723Z
LAST-MODIFIED:20230911T124859Z
UID:58876-1696464000-1696550399@piraten.lu
SUMMARY:Home and Living Expo
DESCRIPTION:D’Piraten kréien hei d’Chance fir hir Logementsproposen nach eng Kéier virzestellen. De Gilles Mertz\, Kandidat aus dem Süden wäert dat fir d’Piraten maachen.
URL:https://piraten.lu/event/home-and-living-expo/
LOCATION:LuxExpo\, Luxembourg\, Luxembourg
END:VEVENT
BEGIN:VEVENT
DTSTART;TZID=Europe/Luxembourg:20231003T190000
DTEND;TZID=Europe/Luxembourg:20231003T190000
DTSTAMP:20260425T145841
CREATED:20230911T124338Z
LAST-MODIFIED:20230911T124405Z
UID:58863-1696359600-1696359600@piraten.lu
SUMMARY:LGBTIQ+: Stagnation oder Fortschritt? Table ronde Rosa Lëtzebuerg
DESCRIPTION:Wéi schnéid d’Piratepartei a Punkto LGBTIQ+ Rechter of? Den Jerry Weyer vertrëtt hei d’Piraten an leet eis Positiounen duer.
URL:https://piraten.lu/event/lgbtiq-stagnation-oder-fortschritt-table-ronde-rosa-letzebuerg/
END:VEVENT
BEGIN:VEVENT
DTSTART;TZID=Europe/Luxembourg:20231003T190000
DTEND;TZID=Europe/Luxembourg:20231003T190000
DTSTAMP:20260425T145841
CREATED:20230911T124338Z
LAST-MODIFIED:20230911T124405Z
UID:58866-1696359600-1696359600@piraten.lu
SUMMARY:LGBTIQ+: Stagnation oder Fortschritt? Table ronde Rosa Lëtzebuerg
DESCRIPTION:Wéi schnéid d’Piratepartei a Punkto LGBTIQ+ Rechter of? Den Jerry Weyer vertrëtt hei d’Piraten an leet eis Positiounen duer.
URL:https://piraten.lu/event/lgbtiq-stagnation-oder-fortschritt-table-ronde-rosa-letzebuerg/
END:VEVENT
BEGIN:VEVENT
DTSTART;TZID=Europe/Luxembourg:20231003T190000
DTEND;TZID=Europe/Luxembourg:20231003T190000
DTSTAMP:20260425T145841
CREATED:20230911T124338Z
LAST-MODIFIED:20230911T124405Z
UID:58867-1696359600-1696359600@piraten.lu
SUMMARY:LGBTIQ+: Stagnation oder Fortschritt? Table ronde Rosa Lëtzebuerg
DESCRIPTION:Wéi schnéid d’Piratepartei a Punkto LGBTIQ+ Rechter of? Den Jerry Weyer vertrëtt hei d’Piraten an leet eis Positiounen duer.
URL:https://piraten.lu/event/lgbtiq-stagnation-oder-fortschritt-table-ronde-rosa-letzebuerg/
END:VEVENT
END:VCALENDAR