BEGIN:VCALENDAR
VERSION:2.0
PRODID:-//PIRATEN - ECPv6.15.16//NONSGML v1.0//EN
CALSCALE:GREGORIAN
METHOD:PUBLISH
X-WR-CALNAME:PIRATEN
X-ORIGINAL-URL:https://piraten.lu
X-WR-CALDESC:Events for PIRATEN
REFRESH-INTERVAL;VALUE=DURATION:PT1H
X-Robots-Tag:noindex
X-PUBLISHED-TTL:PT1H
BEGIN:VTIMEZONE
TZID:Europe/Luxembourg
BEGIN:DAYLIGHT
TZOFFSETFROM:+0100
TZOFFSETTO:+0200
TZNAME:CEST
DTSTART:20220327T010000
END:DAYLIGHT
BEGIN:STANDARD
TZOFFSETFROM:+0200
TZOFFSETTO:+0100
TZNAME:CET
DTSTART:20221030T010000
END:STANDARD
BEGIN:DAYLIGHT
TZOFFSETFROM:+0100
TZOFFSETTO:+0200
TZNAME:CEST
DTSTART:20230326T010000
END:DAYLIGHT
BEGIN:STANDARD
TZOFFSETFROM:+0200
TZOFFSETTO:+0100
TZNAME:CET
DTSTART:20231029T010000
END:STANDARD
BEGIN:DAYLIGHT
TZOFFSETFROM:+0100
TZOFFSETTO:+0200
TZNAME:CEST
DTSTART:20240331T010000
END:DAYLIGHT
BEGIN:STANDARD
TZOFFSETFROM:+0200
TZOFFSETTO:+0100
TZNAME:CET
DTSTART:20241027T010000
END:STANDARD
END:VTIMEZONE
BEGIN:VTIMEZONE
TZID:UTC
BEGIN:STANDARD
TZOFFSETFROM:+0000
TZOFFSETTO:+0000
TZNAME:UTC
DTSTART:20220101T000000
END:STANDARD
END:VTIMEZONE
BEGIN:VEVENT
DTSTART;TZID=Europe/Luxembourg:20230615T190000
DTEND;TZID=Europe/Luxembourg:20230615T210000
DTSTAMP:20260426T062154
CREATED:20230612T115036Z
LAST-MODIFIED:20230612T115036Z
UID:53138-1686855600-1686862800@piraten.lu
SUMMARY:Table ronde: L'espionnage vers le logiciel Pegasus
DESCRIPTION:Table ronde mam Tommy Klein\, Conseiller politique
URL:https://piraten.lu/event/table-ronde-lespionnage-vers-le-logiciel-pegasus/
LOCATION:Centre Català de Luxemburg\, 88\, rue de La Semois\, Luxembourg\, 2533\, Luxembourg
END:VEVENT
BEGIN:VEVENT
DTSTART;TZID=UTC:20230606T183000
DTEND;TZID=UTC:20230606T203000
DTSTAMP:20260426T062154
CREATED:20230324T071530Z
LAST-MODIFIED:20230324T071530Z
UID:46820-1686076200-1686083400@piraten.lu
SUMMARY:Table Ronde "Compétitivité et développement durable : Quelles entreprises pour le Luxembourg ?"
DESCRIPTION:https://paperjam.lu/club/event/2023-03-14-competitivite-et-developpement?lang=fr
URL:https://piraten.lu/event/table-ronde-competitivite-et-developpement-durable-quelles-entreprises-pour-le-luxembourg/
LOCATION:Chambre de Commerce\, 7\, Rue Alcide de Gasperi\, Luxembourg
END:VEVENT
BEGIN:VEVENT
DTSTART;TZID=UTC:20230606T183000
DTEND;TZID=UTC:20230606T203000
DTSTAMP:20260426T062154
CREATED:20230324T071530Z
LAST-MODIFIED:20230324T071530Z
UID:49200-1686076200-1686083400@piraten.lu
SUMMARY:Table Ronde "Compétitivité et développement durable : Quelles entreprises pour le Luxembourg ?"
DESCRIPTION:https://paperjam.lu/club/event/2023-03-14-competitivite-et-developpement?lang=fr
URL:https://piraten.lu/event/table-ronde-competitivite-et-developpement-durable-quelles-entreprises-pour-le-luxembourg/
LOCATION:Chambre de Commerce\, 7\, Rue Alcide de Gasperi\, Luxembourg
END:VEVENT
BEGIN:VEVENT
DTSTART;TZID=UTC:20230606T183000
DTEND;TZID=UTC:20230606T203000
DTSTAMP:20260426T062154
CREATED:20230324T071530Z
LAST-MODIFIED:20230324T071530Z
UID:49201-1686076200-1686083400@piraten.lu
SUMMARY:Table Ronde "Compétitivité et développement durable : Quelles entreprises pour le Luxembourg ?"
DESCRIPTION:https://paperjam.lu/club/event/2023-03-14-competitivite-et-developpement?lang=fr
URL:https://piraten.lu/event/table-ronde-competitivite-et-developpement-durable-quelles-entreprises-pour-le-luxembourg/
LOCATION:Chambre de Commerce\, 7\, Rue Alcide de Gasperi\, Luxembourg
END:VEVENT
BEGIN:VEVENT
DTSTART;TZID=UTC:20230606T183000
DTEND;TZID=UTC:20230606T203000
DTSTAMP:20260426T062154
CREATED:20230324T071530Z
LAST-MODIFIED:20230324T071530Z
UID:49202-1686076200-1686083400@piraten.lu
SUMMARY:Table Ronde "Compétitivité et développement durable : Quelles entreprises pour le Luxembourg ?"
DESCRIPTION:https://paperjam.lu/club/event/2023-03-14-competitivite-et-developpement?lang=fr
URL:https://piraten.lu/event/table-ronde-competitivite-et-developpement-durable-quelles-entreprises-pour-le-luxembourg/
LOCATION:Chambre de Commerce\, 7\, Rue Alcide de Gasperi\, Luxembourg
END:VEVENT
BEGIN:VEVENT
DTSTART;TZID=UTC:20230603T070000
DTEND;TZID=UTC:20230603T140000
DTSTAMP:20260426T062154
CREATED:20230323T133920Z
LAST-MODIFIED:20230327T050740Z
UID:46793-1685775600-1685800800@piraten.lu
SUMMARY:Piraten um Stater Maart
DESCRIPTION:
URL:https://piraten.lu/event/piraten-um-stater-maart-10/
LOCATION:Avenue Monterey\, Luxembourg
END:VEVENT
BEGIN:VEVENT
DTSTART;TZID=UTC:20230603T070000
DTEND;TZID=UTC:20230603T140000
DTSTAMP:20260426T062154
CREATED:20230323T133920Z
LAST-MODIFIED:20230323T133920Z
UID:49212-1685775600-1685800800@piraten.lu
SUMMARY:Piraten um Stater Maart
DESCRIPTION:
URL:https://piraten.lu/event/piraten-um-stater-maart-10/
LOCATION:Avenue Monterey\, Luxembourg
END:VEVENT
BEGIN:VEVENT
DTSTART;TZID=UTC:20230603T070000
DTEND;TZID=UTC:20230603T140000
DTSTAMP:20260426T062154
CREATED:20230323T133920Z
LAST-MODIFIED:20230323T133920Z
UID:49213-1685775600-1685800800@piraten.lu
SUMMARY:Piraten um Stater Maart
DESCRIPTION:
URL:https://piraten.lu/event/piraten-um-stater-maart-10/
LOCATION:Avenue Monterey\, Luxembourg
END:VEVENT
BEGIN:VEVENT
DTSTART;TZID=UTC:20230603T070000
DTEND;TZID=UTC:20230603T140000
DTSTAMP:20260426T062154
CREATED:20230323T133920Z
LAST-MODIFIED:20230323T133920Z
UID:49214-1685775600-1685800800@piraten.lu
SUMMARY:Piraten um Stater Maart
DESCRIPTION:
URL:https://piraten.lu/event/piraten-um-stater-maart-10/
LOCATION:Avenue Monterey\, Luxembourg
END:VEVENT
BEGIN:VEVENT
DTSTART;VALUE=DATE:20230603
DTEND;VALUE=DATE:20230604
DTSTAMP:20260426T062154
CREATED:20230502T195427Z
LAST-MODIFIED:20230502T195505Z
UID:50774-1685750400-1685836799@piraten.lu
SUMMARY:Braderie zu Kayl
DESCRIPTION:D’Piraten sinn hei mat engem Stand dobäi.
URL:https://piraten.lu/event/braderie-zu-kayl/
END:VEVENT
BEGIN:VEVENT
DTSTART;TZID=UTC:20230527T070000
DTEND;TZID=UTC:20230527T140000
DTSTAMP:20260426T062154
CREATED:20230323T133841Z
LAST-MODIFIED:20230327T050801Z
UID:46791-1685170800-1685196000@piraten.lu
SUMMARY:Piraten um Stater Maart
DESCRIPTION:
URL:https://piraten.lu/event/piraten-um-stater-maart-9/
LOCATION:Avenue Monterey\, Luxembourg
END:VEVENT
BEGIN:VEVENT
DTSTART;TZID=UTC:20230527T070000
DTEND;TZID=UTC:20230527T140000
DTSTAMP:20260426T062154
CREATED:20230323T133841Z
LAST-MODIFIED:20230323T133841Z
UID:49215-1685170800-1685196000@piraten.lu
SUMMARY:Piraten um Stater Maart
DESCRIPTION:
URL:https://piraten.lu/event/piraten-um-stater-maart-9/
LOCATION:Avenue Monterey\, Luxembourg
END:VEVENT
BEGIN:VEVENT
DTSTART;TZID=UTC:20230527T070000
DTEND;TZID=UTC:20230527T140000
DTSTAMP:20260426T062154
CREATED:20230323T133841Z
LAST-MODIFIED:20230323T133841Z
UID:49216-1685170800-1685196000@piraten.lu
SUMMARY:Piraten um Stater Maart
DESCRIPTION:
URL:https://piraten.lu/event/piraten-um-stater-maart-9/
LOCATION:Avenue Monterey\, Luxembourg
END:VEVENT
BEGIN:VEVENT
DTSTART;TZID=UTC:20230527T070000
DTEND;TZID=UTC:20230527T140000
DTSTAMP:20260426T062154
CREATED:20230323T133841Z
LAST-MODIFIED:20230323T133841Z
UID:49217-1685170800-1685196000@piraten.lu
SUMMARY:Piraten um Stater Maart
DESCRIPTION:
URL:https://piraten.lu/event/piraten-um-stater-maart-9/
LOCATION:Avenue Monterey\, Luxembourg
END:VEVENT
BEGIN:VEVENT
DTSTART;VALUE=DATE:20230527
DTEND;VALUE=DATE:20230528
DTSTAMP:20260426T062154
CREATED:20230419T132121Z
LAST-MODIFIED:20230419T132145Z
UID:49351-1685145600-1685231999@piraten.lu
SUMMARY:Braderie zu Déifferdeng
DESCRIPTION:
URL:https://piraten.lu/event/braderie-zu-deifferdeng/
END:VEVENT
BEGIN:VEVENT
DTSTART;TZID=Europe/Luxembourg:20230525T190000
DTEND;TZID=Europe/Luxembourg:20230525T213000
DTSTAMP:20260426T062154
CREATED:20230424T081244Z
LAST-MODIFIED:20230424T082400Z
UID:49643-1685041200-1685050200@piraten.lu
SUMMARY:Table ronde 20 Joer OGBL-DTH
DESCRIPTION:mam Raymond Remakel\, Koordinator Bezierk Norden
URL:https://piraten.lu/event/table-ronde-20-joer-ogbl-dth/
LOCATION:Foyer CELO\, 476\, route de Thionville\, Hesperange
END:VEVENT
BEGIN:VEVENT
DTSTART;TZID=Europe/Luxembourg:20230525T153000
DTEND;TZID=Europe/Luxembourg:20230525T170000
DTSTAMP:20260426T062154
CREATED:20230424T081049Z
LAST-MODIFIED:20230424T081804Z
UID:49640-1685028600-1685034000@piraten.lu
SUMMARY:Table ronde Caritas "Aarm mécht krank\, krank mécht aarm"
DESCRIPTION:mam Mandy Arendt\, Co-Spriecherin vun de Jonke Piraten
URL:https://piraten.lu/event/table-ronde-caritas-aarm-mecht-krank-krank-mecht-aarm/
LOCATION:Centre Jean XIII\, 52\, rue Jules Wilhelm\, Luxembourg\, Luxembourg
END:VEVENT
BEGIN:VEVENT
DTSTART;TZID=Europe/Luxembourg:20230523T170000
DTEND;TZID=Europe/Luxembourg:20230523T190000
DTSTAMP:20260426T062154
CREATED:20230424T080616Z
LAST-MODIFIED:20230424T081654Z
UID:49638-1684861200-1684868400@piraten.lu
SUMMARY:Table ronde politique Elections 2023 « Attractivité de l’Artisanat de demain »
DESCRIPTION:mam Tommy Klein
URL:https://piraten.lu/event/table-ronde-politique-elections-2023-attractivite-de-lartisanat-de-demain/
LOCATION:To be confimed
END:VEVENT
BEGIN:VEVENT
DTSTART;TZID=UTC:20230520T070000
DTEND;TZID=UTC:20230520T140000
DTSTAMP:20260426T062154
CREATED:20230323T133810Z
LAST-MODIFIED:20230323T133810Z
UID:46789-1684566000-1684591200@piraten.lu
SUMMARY:Piraten um Stater Maart
DESCRIPTION:
URL:https://piraten.lu/event/piraten-um-stater-maart-8/
LOCATION:Grand-rue an der Stad
END:VEVENT
BEGIN:VEVENT
DTSTART;TZID=UTC:20230520T070000
DTEND;TZID=UTC:20230520T140000
DTSTAMP:20260426T062154
CREATED:20230323T133810Z
LAST-MODIFIED:20230323T133810Z
UID:49218-1684566000-1684591200@piraten.lu
SUMMARY:Piraten um Stater Maart
DESCRIPTION:
URL:https://piraten.lu/event/piraten-um-stater-maart-8/
LOCATION:Grand-rue an der Stad
END:VEVENT
BEGIN:VEVENT
DTSTART;TZID=UTC:20230520T070000
DTEND;TZID=UTC:20230520T140000
DTSTAMP:20260426T062154
CREATED:20230323T133810Z
LAST-MODIFIED:20230323T133810Z
UID:49219-1684566000-1684591200@piraten.lu
SUMMARY:Piraten um Stater Maart
DESCRIPTION:
URL:https://piraten.lu/event/piraten-um-stater-maart-8/
LOCATION:Grand-rue an der Stad
END:VEVENT
BEGIN:VEVENT
DTSTART;TZID=UTC:20230520T070000
DTEND;TZID=UTC:20230520T140000
DTSTAMP:20260426T062154
CREATED:20230323T133810Z
LAST-MODIFIED:20230323T133810Z
UID:49220-1684566000-1684591200@piraten.lu
SUMMARY:Piraten um Stater Maart
DESCRIPTION:
URL:https://piraten.lu/event/piraten-um-stater-maart-8/
LOCATION:Grand-rue an der Stad
END:VEVENT
BEGIN:VEVENT
DTSTART;TZID=Europe/Luxembourg:20230515T190000
DTEND;TZID=Europe/Luxembourg:20230515T220000
DTSTAMP:20260426T062154
CREATED:20230503T082723Z
LAST-MODIFIED:20230503T082810Z
UID:50842-1684177200-1684188000@piraten.lu
SUMMARY:Parteileedung HQ Kopstal
DESCRIPTION:
URL:https://piraten.lu/event/parteileedung-kopstal/
END:VEVENT
BEGIN:VEVENT
DTSTART;TZID=Europe/Luxembourg:20230515T173000
DTEND;TZID=Europe/Luxembourg:20230515T220000
DTSTAMP:20260426T062154
CREATED:20230424T075926Z
LAST-MODIFIED:20230424T080552Z
UID:49636-1684171800-1684188000@piraten.lu
SUMMARY:Table ronde Chambre de commerce
DESCRIPTION:Thema: Attractivité&compétitivité \nmam Tommy Klein
URL:https://piraten.lu/event/table-ronde-chambre-de-commerce/
LOCATION:Chambre de Commerce\, 7\, Rue Alcide de Gasperi\, Luxembourg
END:VEVENT
BEGIN:VEVENT
DTSTART;VALUE=DATE:20230515
DTEND;VALUE=DATE:20230516
DTSTAMP:20260426T062154
CREATED:20230419T132059Z
LAST-MODIFIED:20230419T132113Z
UID:49349-1684108800-1684195199@piraten.lu
SUMMARY:Maart zu réimech
DESCRIPTION:
URL:https://piraten.lu/event/maart-zu-reimech/
END:VEVENT
BEGIN:VEVENT
DTSTART;VALUE=DATE:20230514
DTEND;VALUE=DATE:20230515
DTSTAMP:20260426T062154
CREATED:20230421T110152Z
LAST-MODIFIED:20230421T110532Z
UID:49590-1684022400-1684108799@piraten.lu
SUMMARY:Blummemaart zu Ouljen
DESCRIPTION:Eis Sektioun Betzer wäert hei vertruede sinn an een oppent Ouer fir iech hunn 🙂
URL:https://piraten.lu/event/blummemaart-zu-ouljen/
END:VEVENT
BEGIN:VEVENT
DTSTART;TZID=Europe/Luxembourg:20230513T150000
DTEND;TZID=Europe/Luxembourg:20230513T170000
DTSTAMP:20260426T062154
CREATED:20230420T065628Z
LAST-MODIFIED:20230420T065729Z
UID:49383-1683990000-1683997200@piraten.lu
SUMMARY:Monnerecher Laf
DESCRIPTION:d’Piraten lafen mat: \n  \nhttps://mondercange.lu/actualites/monnerecher-laf-2023 \n 
URL:https://piraten.lu/event/monnerecher-laf/
END:VEVENT
BEGIN:VEVENT
DTSTART;TZID=Europe/Luxembourg:20230513T090000
DTEND;TZID=Europe/Luxembourg:20230513T190000
DTSTAMP:20260426T062154
CREATED:20230511T100859Z
LAST-MODIFIED:20230511T101033Z
UID:51416-1683968400-1684004400@piraten.lu
SUMMARY:D'Piraten um Stater Stroossemaart
DESCRIPTION:kommt bis bei eis bei d’Place d’armes kuken \nhttps://www.vdl.lu/en/news/stroossemaart
URL:https://piraten.lu/event/dpiraten-um-stater-stroossemaart/
LOCATION:Plac d’armes\, Place d'armes\, Luxembourg\, 2346\, Luxembourg
END:VEVENT
BEGIN:VEVENT
DTSTART;TZID=UTC:20230513T070000
DTEND;TZID=UTC:20230513T140000
DTSTAMP:20260426T062154
CREATED:20230323T133743Z
LAST-MODIFIED:20230327T050553Z
UID:46787-1683961200-1683986400@piraten.lu
SUMMARY:Piraten um Stater Maart
DESCRIPTION:
URL:https://piraten.lu/event/piraten-um-stater-maart-7/
LOCATION:Avenue Monterey\, Luxembourg
END:VEVENT
BEGIN:VEVENT
DTSTART;TZID=UTC:20230513T070000
DTEND;TZID=UTC:20230513T140000
DTSTAMP:20260426T062154
CREATED:20230323T133743Z
LAST-MODIFIED:20230323T133743Z
UID:49221-1683961200-1683986400@piraten.lu
SUMMARY:Piraten um Stater Maart
DESCRIPTION:
URL:https://piraten.lu/event/piraten-um-stater-maart-7/
LOCATION:Avenue Monterey\, Luxembourg
END:VEVENT
END:VCALENDAR