BEGIN:VCALENDAR
VERSION:2.0
PRODID:-//PIRATEN - ECPv6.15.16//NONSGML v1.0//EN
CALSCALE:GREGORIAN
METHOD:PUBLISH
X-WR-CALNAME:PIRATEN
X-ORIGINAL-URL:https://piraten.lu
X-WR-CALDESC:Events for PIRATEN
REFRESH-INTERVAL;VALUE=DURATION:PT1H
X-Robots-Tag:noindex
X-PUBLISHED-TTL:PT1H
BEGIN:VTIMEZONE
TZID:Europe/Luxembourg
BEGIN:DAYLIGHT
TZOFFSETFROM:+0100
TZOFFSETTO:+0200
TZNAME:CEST
DTSTART:20220327T010000
END:DAYLIGHT
BEGIN:STANDARD
TZOFFSETFROM:+0200
TZOFFSETTO:+0100
TZNAME:CET
DTSTART:20221030T010000
END:STANDARD
BEGIN:DAYLIGHT
TZOFFSETFROM:+0100
TZOFFSETTO:+0200
TZNAME:CEST
DTSTART:20230326T010000
END:DAYLIGHT
BEGIN:STANDARD
TZOFFSETFROM:+0200
TZOFFSETTO:+0100
TZNAME:CET
DTSTART:20231029T010000
END:STANDARD
BEGIN:DAYLIGHT
TZOFFSETFROM:+0100
TZOFFSETTO:+0200
TZNAME:CEST
DTSTART:20240331T010000
END:DAYLIGHT
BEGIN:STANDARD
TZOFFSETFROM:+0200
TZOFFSETTO:+0100
TZNAME:CET
DTSTART:20241027T010000
END:STANDARD
END:VTIMEZONE
BEGIN:VTIMEZONE
TZID:UTC
BEGIN:STANDARD
TZOFFSETFROM:+0000
TZOFFSETTO:+0000
TZNAME:UTC
DTSTART:20220101T000000
END:STANDARD
END:VTIMEZONE
BEGIN:VEVENT
DTSTART;TZID=Europe/Luxembourg:20230910T100000
DTEND;TZID=Europe/Luxembourg:20230910T180000
DTSTAMP:20260426T032159
CREATED:20230721T080349Z
LAST-MODIFIED:20230721T080349Z
UID:53642-1694340000-1694368800@piraten.lu
SUMMARY:Cliärrwer Braderie 2023
DESCRIPTION:
URL:https://piraten.lu/event/cliarrwer-braderie-2023/
LOCATION:Clervaux\, Luxembourg
END:VEVENT
BEGIN:VEVENT
DTSTART;VALUE=DATE:20230907
DTEND;VALUE=DATE:20230908
DTSTAMP:20260426T032159
CREATED:20230822T072825Z
LAST-MODIFIED:20230822T072825Z
UID:56662-1694044800-1694131199@piraten.lu
SUMMARY:D'Piraten op der Fouer
DESCRIPTION:Donneschden\, de 7te September\, ginn d’Piraten zesummen eppes op d’Schueberfouer iessen. Wanns de eis begéins so eis roueg Moien 🙂
URL:https://piraten.lu/event/dpiraten-op-der-fouer/
LOCATION:Glacis
END:VEVENT
BEGIN:VEVENT
DTSTART;VALUE=DATE:20230904
DTEND;VALUE=DATE:20230905
DTSTAMP:20260426T032159
CREATED:20230704T130904Z
LAST-MODIFIED:20230704T130904Z
UID:53424-1693785600-1693871999@piraten.lu
SUMMARY:Braderie Stad
DESCRIPTION:
URL:https://piraten.lu/event/braderie-stad/
END:VEVENT
BEGIN:VEVENT
DTSTART;TZID=Europe/Luxembourg:20230831T180000
DTEND;TZID=Europe/Luxembourg:20230831T230000
DTSTAMP:20260426T032159
CREATED:20230622T103004Z
LAST-MODIFIED:20230622T103004Z
UID:53242-1693504800-1693522800@piraten.lu
SUMMARY:Piraten um Schëff
DESCRIPTION:https://piraten.lupiraten-um-scheff-31-8-23/
URL:https://piraten.lu/event/piraten-um-scheff/
END:VEVENT
BEGIN:VEVENT
DTSTART;TZID=Europe/Luxembourg:20230730T110000
DTEND;TZID=Europe/Luxembourg:20230730T130000
DTSTAMP:20260426T032159
CREATED:20230622T100242Z
LAST-MODIFIED:20230622T100242Z
UID:53240-1690714800-1690722000@piraten.lu
SUMMARY:Kongress Bezierk Osten
DESCRIPTION:https://piraten.lubezierkskongress-osten-2023/
URL:https://piraten.lu/event/kongress-bezierk-osten/
END:VEVENT
BEGIN:VEVENT
DTSTART;TZID=Europe/Luxembourg:20230724T190000
DTEND;TZID=Europe/Luxembourg:20230724T190000
DTSTAMP:20260426T032159
CREATED:20230630T095152Z
LAST-MODIFIED:20230630T095319Z
UID:53394-1690225200-1690225200@piraten.lu
SUMMARY:Nordkongress
DESCRIPTION:De BezierkskongressNorden\, deen de Méinden\, de 24te Juli 2023\, ab 19h00 am Centre culturel zu Viichten stattfënnt. D’Adress ass 32\, rue Principale L-9190 Vichten.
URL:https://piraten.lu/event/nordkongress/
LOCATION:Centre culturel Vichten\, 32\, rue principale\, Vichten\, 9190\, Luxembourg
END:VEVENT
BEGIN:VEVENT
DTSTART;TZID=Europe/Luxembourg:20230722T170000
DTEND;TZID=Europe/Luxembourg:20230722T180000
DTSTAMP:20260426T032159
CREATED:20230630T094940Z
LAST-MODIFIED:20230630T095304Z
UID:53390-1690045200-1690048800@piraten.lu
SUMMARY:Südkongress
DESCRIPTION:Den Südkongress fënnt den Samschden\, den 22te Juli 2023\, ab 17h00 am Kulturhaus Käerjenger Treff statt. D’Adress ass 54c Avenue de Luxembourg\, L-4950 Bascharage.
URL:https://piraten.lu/event/sudkongress-2/
LOCATION:Kulturhaus Käerjeng\, 54c Avenue de Luxembourg\, Bascharage\, 4950\, Luxembourg
END:VEVENT
BEGIN:VEVENT
DTSTART;TZID=Europe/Luxembourg:20230722T090000
DTEND;TZID=Europe/Luxembourg:20230722T180000
DTSTAMP:20260426T032159
CREATED:20230710T102940Z
LAST-MODIFIED:20230710T103041Z
UID:53466-1690016400-1690048800@piraten.lu
SUMMARY:Braderie Diddeleng
DESCRIPTION:Kommt bis bei eis laanscht 🙂
URL:https://piraten.lu/event/braderie-diddeleng/
LOCATION:Dudelange
END:VEVENT
BEGIN:VEVENT
DTSTART;VALUE=DATE:20230721
DTEND;VALUE=DATE:20230723
DTSTAMP:20260426T032159
CREATED:20230510T104526Z
LAST-MODIFIED:20230710T101915Z
UID:51291-1689897600-1690070399@piraten.lu
SUMMARY:Braderie zu Diekirch mat de Piraten
DESCRIPTION:Kommt eis Moien soen 🙂
URL:https://piraten.lu/event/braderie-zu-diekirch-mat-de-piraten/
LOCATION:Diekirch\, Diekirch\, Luxembourg
END:VEVENT
BEGIN:VEVENT
DTSTART;TZID=Europe/Luxembourg:20230714T183000
DTEND;TZID=Europe/Luxembourg:20230714T213000
DTSTAMP:20260426T032159
CREATED:20230621T071912Z
LAST-MODIFIED:20230621T071912Z
UID:53205-1689359400-1689370200@piraten.lu
SUMMARY:Zentrumskongress
DESCRIPTION:https://piraten.lubezierkskongress-2023-zentrum/ \n 
URL:https://piraten.lu/event/zentrumskongress/
END:VEVENT
BEGIN:VEVENT
DTSTART;VALUE=DATE:20230714
DTEND;VALUE=DATE:20230715
DTSTAMP:20260426T032159
CREATED:20230622T103053Z
LAST-MODIFIED:20230622T103053Z
UID:53250-1689292800-1689379199@piraten.lu
SUMMARY:Braderie zu Esch
DESCRIPTION:Kommt laanscht op eise Stand op Esch an trefft Är Süd-Piraten!
URL:https://piraten.lu/event/braderie-zu-esch/
END:VEVENT
BEGIN:VEVENT
DTSTART;VALUE=DATE:20230709
DTEND;VALUE=DATE:20230710
DTSTAMP:20260426T032159
CREATED:20230705T114206Z
LAST-MODIFIED:20230705T120528Z
UID:53427-1688860800-1688947199@piraten.lu
SUMMARY:Braderie zu Réimech
DESCRIPTION:D’Piraten hunn ee Stand zu Réimech op der Braderie. \n  \nhttps://bierger.remich.lu/fr/agenda/3_braderie/
URL:https://piraten.lu/event/braderie-zu-reimech/
END:VEVENT
BEGIN:VEVENT
DTSTART;TZID=Europe/Luxembourg:20230708T080000
DTEND;TZID=Europe/Luxembourg:20230708T170000
DTSTAMP:20260426T032159
CREATED:20230530T123933Z
LAST-MODIFIED:20230531T094958Z
UID:52715-1688803200-1688835600@piraten.lu
SUMMARY:Piraten op der Péitenger Braderie
DESCRIPTION:kommt bis laanscht a schwätzt mat eis 🙂
URL:https://piraten.lu/event/piraten-op-der-peitenger-braderie/
LOCATION:Petange\, Place du marché\, Pétange\, Luxembourg
END:VEVENT
BEGIN:VEVENT
DTSTART;VALUE=DATE:20230708
DTEND;VALUE=DATE:20230710
DTSTAMP:20260426T032159
CREATED:20230621T072135Z
LAST-MODIFIED:20230621T072135Z
UID:53210-1688774400-1688947199@piraten.lu
SUMMARY:Piraten um LXB Pride
DESCRIPTION:Luxembourg Pride 2024
URL:https://piraten.lu/event/piraten-um-lxb-pride/
END:VEVENT
BEGIN:VEVENT
DTSTART;TZID=Europe/Luxembourg:20230705T180000
DTEND;TZID=Europe/Luxembourg:20230705T193000
DTSTAMP:20260426T032159
CREATED:20230424T082758Z
LAST-MODIFIED:20230424T083706Z
UID:49653-1688580000-1688585400@piraten.lu
SUMMARY:Table ronde HR Community
DESCRIPTION:mam Tommy Klein\, Conseiller politique
URL:https://piraten.lu/event/table-ronde-hr-community/
LOCATION:amphithéâtre de la Coque\, 2\, rue Léon Hengen\, Luxembourg\, Luxembourg
END:VEVENT
BEGIN:VEVENT
DTSTART;TZID=Europe/Luxembourg:20230628T170000
DTEND;TZID=Europe/Luxembourg:20230628T170000
DTSTAMP:20260426T032159
CREATED:20230424T082410Z
LAST-MODIFIED:20230606T141306Z
UID:49649-1687971600-1687971600@piraten.lu
SUMMARY:Table ronde  « Environnement propice au développement socio-économique »
DESCRIPTION:Chambre des métiers mam Tommy Klein\, conseiller politique an Zentrumskandidat
URL:https://piraten.lu/event/table-ronde-environnement-propice-au-developpement-socio-economique/
LOCATION:To be confimed
END:VEVENT
BEGIN:VEVENT
DTSTART;TZID=UTC:20230627T183000
DTEND;TZID=UTC:20230627T203000
DTSTAMP:20260426T032159
CREATED:20230324T071721Z
LAST-MODIFIED:20230324T072138Z
UID:46822-1687890600-1687897800@piraten.lu
SUMMARY:Table ronde "Fiscalité\, finances publiques et Place financière" mam Jerry Weyer
DESCRIPTION:https://paperjam.lu/club/event/2023-06-27-fiscalite-et-finances-publique?lang=fr
URL:https://piraten.lu/event/fiscalite-finances-publiques-et-place-financiere/
LOCATION:PwC – Crystal Park\, 2 Rue Gerhard Mercator\, Luxembourg
END:VEVENT
BEGIN:VEVENT
DTSTART;TZID=UTC:20230627T183000
DTEND;TZID=UTC:20230627T203000
DTSTAMP:20260426T032159
CREATED:20230324T071721Z
LAST-MODIFIED:20230324T071721Z
UID:49196-1687890600-1687897800@piraten.lu
SUMMARY:Table ronde "Fiscalité\, finances publiques et Place financière" mam Jerry Weyer
DESCRIPTION:https://paperjam.lu/club/event/2023-06-27-fiscalite-et-finances-publique?lang=fr
URL:https://piraten.lu/event/fiscalite-finances-publiques-et-place-financiere/
LOCATION:PwC – Crystal Park\, 2 Rue Gerhard Mercator\, Luxembourg
END:VEVENT
BEGIN:VEVENT
DTSTART;TZID=UTC:20230627T183000
DTEND;TZID=UTC:20230627T203000
DTSTAMP:20260426T032159
CREATED:20230324T071721Z
LAST-MODIFIED:20230324T071721Z
UID:49197-1687890600-1687897800@piraten.lu
SUMMARY:Table ronde "Fiscalité\, finances publiques et Place financière" mam Jerry Weyer
DESCRIPTION:https://paperjam.lu/club/event/2023-06-27-fiscalite-et-finances-publique?lang=fr
URL:https://piraten.lu/event/fiscalite-finances-publiques-et-place-financiere/
LOCATION:PwC – Crystal Park\, 2 Rue Gerhard Mercator\, Luxembourg
END:VEVENT
BEGIN:VEVENT
DTSTART;TZID=UTC:20230627T183000
DTEND;TZID=UTC:20230627T203000
DTSTAMP:20260426T032159
CREATED:20230324T071721Z
LAST-MODIFIED:20230324T071721Z
UID:49198-1687890600-1687897800@piraten.lu
SUMMARY:Table ronde "Fiscalité\, finances publiques et Place financière" mam Jerry Weyer
DESCRIPTION:https://paperjam.lu/club/event/2023-06-27-fiscalite-et-finances-publique?lang=fr
URL:https://piraten.lu/event/fiscalite-finances-publiques-et-place-financiere/
LOCATION:PwC – Crystal Park\, 2 Rue Gerhard Mercator\, Luxembourg
END:VEVENT
BEGIN:VEVENT
DTSTART;VALUE=DATE:20230625
DTEND;VALUE=DATE:20230626
DTSTAMP:20260426T032159
CREATED:20230525T153338Z
LAST-MODIFIED:20230525T153338Z
UID:52654-1687651200-1687737599@piraten.lu
SUMMARY:Braderie zu Miersch mat de Piraten
DESCRIPTION:Kommt bis laanscht eis Moien soen 🙂
URL:https://piraten.lu/event/braderie-zu-miersch-mat-de-piraten/
LOCATION:Mersch\, Mersch\, Luxembourg
END:VEVENT
BEGIN:VEVENT
DTSTART;TZID=Europe/Luxembourg:20230621T180000
DTEND;TZID=Europe/Luxembourg:20230621T213000
DTSTAMP:20260426T032159
CREATED:20230621T071132Z
LAST-MODIFIED:20230621T071132Z
UID:53197-1687370400-1687383000@piraten.lu
SUMMARY:Parteileedung
DESCRIPTION:
URL:https://piraten.lu/event/parteileedung-2/
END:VEVENT
BEGIN:VEVENT
DTSTART;TZID=Europe/Luxembourg:20230619T193000
DTEND;TZID=Europe/Luxembourg:20230619T193000
DTSTAMP:20260426T032159
CREATED:20230424T082013Z
LAST-MODIFIED:20230424T082252Z
UID:49645-1687203000-1687203000@piraten.lu
SUMMARY:Table ronde Asti "Immigration\, asile et le vivre-ensemble"
DESCRIPTION:mam Marie-Marthe Muller\, Co-Spëtzekandidatin fir d’Stad Lëtzebuerg
URL:https://piraten.lu/event/table-ronde-asti-immigration-asile-et-le-vivre-ensemble/
LOCATION:Centre culturel Neimënster\, 28 Rue Münster\, Grund Luxembourg\, Luxembourg
END:VEVENT
BEGIN:VEVENT
DTSTART;TZID=Europe/Luxembourg:20230619T190000
DTEND;TZID=Europe/Luxembourg:20230619T190000
DTSTAMP:20260426T032159
CREATED:20230424T075653Z
LAST-MODIFIED:20230502T124320Z
UID:49634-1687201200-1687201200@piraten.lu
SUMMARY:Table ronde OAI
DESCRIPTION:Thema: Logement fir déi Jonk \nMam Mathis Godefroid
URL:https://piraten.lu/event/table-ronde-oai/
LOCATION:To be confimed
END:VEVENT
BEGIN:VEVENT
DTSTART;TZID=Europe/Luxembourg:20230615T190000
DTEND;TZID=Europe/Luxembourg:20230615T210000
DTSTAMP:20260426T032159
CREATED:20230612T115036Z
LAST-MODIFIED:20230612T115036Z
UID:53138-1686855600-1686862800@piraten.lu
SUMMARY:Table ronde: L'espionnage vers le logiciel Pegasus
DESCRIPTION:Table ronde mam Tommy Klein\, Conseiller politique
URL:https://piraten.lu/event/table-ronde-lespionnage-vers-le-logiciel-pegasus/
LOCATION:Centre Català de Luxemburg\, 88\, rue de La Semois\, Luxembourg\, 2533\, Luxembourg
END:VEVENT
BEGIN:VEVENT
DTSTART;TZID=UTC:20230606T183000
DTEND;TZID=UTC:20230606T203000
DTSTAMP:20260426T032159
CREATED:20230324T071530Z
LAST-MODIFIED:20230324T071530Z
UID:46820-1686076200-1686083400@piraten.lu
SUMMARY:Table Ronde "Compétitivité et développement durable : Quelles entreprises pour le Luxembourg ?"
DESCRIPTION:https://paperjam.lu/club/event/2023-03-14-competitivite-et-developpement?lang=fr
URL:https://piraten.lu/event/table-ronde-competitivite-et-developpement-durable-quelles-entreprises-pour-le-luxembourg/
LOCATION:Chambre de Commerce\, 7\, Rue Alcide de Gasperi\, Luxembourg
END:VEVENT
BEGIN:VEVENT
DTSTART;TZID=UTC:20230606T183000
DTEND;TZID=UTC:20230606T203000
DTSTAMP:20260426T032159
CREATED:20230324T071530Z
LAST-MODIFIED:20230324T071530Z
UID:49200-1686076200-1686083400@piraten.lu
SUMMARY:Table Ronde "Compétitivité et développement durable : Quelles entreprises pour le Luxembourg ?"
DESCRIPTION:https://paperjam.lu/club/event/2023-03-14-competitivite-et-developpement?lang=fr
URL:https://piraten.lu/event/table-ronde-competitivite-et-developpement-durable-quelles-entreprises-pour-le-luxembourg/
LOCATION:Chambre de Commerce\, 7\, Rue Alcide de Gasperi\, Luxembourg
END:VEVENT
BEGIN:VEVENT
DTSTART;TZID=UTC:20230606T183000
DTEND;TZID=UTC:20230606T203000
DTSTAMP:20260426T032159
CREATED:20230324T071530Z
LAST-MODIFIED:20230324T071530Z
UID:49201-1686076200-1686083400@piraten.lu
SUMMARY:Table Ronde "Compétitivité et développement durable : Quelles entreprises pour le Luxembourg ?"
DESCRIPTION:https://paperjam.lu/club/event/2023-03-14-competitivite-et-developpement?lang=fr
URL:https://piraten.lu/event/table-ronde-competitivite-et-developpement-durable-quelles-entreprises-pour-le-luxembourg/
LOCATION:Chambre de Commerce\, 7\, Rue Alcide de Gasperi\, Luxembourg
END:VEVENT
BEGIN:VEVENT
DTSTART;TZID=UTC:20230606T183000
DTEND;TZID=UTC:20230606T203000
DTSTAMP:20260426T032159
CREATED:20230324T071530Z
LAST-MODIFIED:20230324T071530Z
UID:49202-1686076200-1686083400@piraten.lu
SUMMARY:Table Ronde "Compétitivité et développement durable : Quelles entreprises pour le Luxembourg ?"
DESCRIPTION:https://paperjam.lu/club/event/2023-03-14-competitivite-et-developpement?lang=fr
URL:https://piraten.lu/event/table-ronde-competitivite-et-developpement-durable-quelles-entreprises-pour-le-luxembourg/
LOCATION:Chambre de Commerce\, 7\, Rue Alcide de Gasperi\, Luxembourg
END:VEVENT
BEGIN:VEVENT
DTSTART;TZID=UTC:20230603T070000
DTEND;TZID=UTC:20230603T140000
DTSTAMP:20260426T032159
CREATED:20230323T133920Z
LAST-MODIFIED:20230327T050740Z
UID:46793-1685775600-1685800800@piraten.lu
SUMMARY:Piraten um Stater Maart
DESCRIPTION:
URL:https://piraten.lu/event/piraten-um-stater-maart-10/
LOCATION:Avenue Monterey\, Luxembourg
END:VEVENT
END:VCALENDAR